BEGIN:VCALENDAR
VERSION:2.0
PRODID:-//Neues Globe Theater - ECPv6.8.3//NONSGML v1.0//EN
CALSCALE:GREGORIAN
METHOD:PUBLISH
X-WR-CALNAME:Neues Globe Theater
X-ORIGINAL-URL:https://neuesglobetheater.de
X-WR-CALDESC:Veranstaltungen für Neues Globe Theater
REFRESH-INTERVAL;VALUE=DURATION:PT1H
X-Robots-Tag:noindex
X-PUBLISHED-TTL:PT1H
BEGIN:VTIMEZONE
TZID:Europe/Berlin
BEGIN:DAYLIGHT
TZOFFSETFROM:+0100
TZOFFSETTO:+0200
TZNAME:CEST
DTSTART:20260329T010000
END:DAYLIGHT
BEGIN:STANDARD
TZOFFSETFROM:+0200
TZOFFSETTO:+0100
TZNAME:CET
DTSTART:20261025T010000
END:STANDARD
END:VTIMEZONE
BEGIN:VEVENT
DTSTART;TZID=Europe/Berlin:20260704T193000
DTEND;TZID=Europe/Berlin:20260704T214500
DTSTAMP:20260424T162401
CREATED:20260305T111441Z
LAST-MODIFIED:20260305T111544Z
UID:8624-1783193400-1783201500@neuesglobetheater.de
SUMMARY:Don Quijote | Theater am Rand\, Oderaue
DESCRIPTION:
URL:https://neuesglobetheater.de/termin/don-quijote-theater-am-rand/
LOCATION:Theater am Rand\, Oderaue\, Zollbrücke 16\, Oderaue\, Brandenburg\, 16259\, Germany
END:VEVENT
BEGIN:VEVENT
DTSTART;TZID=Europe/Berlin:20260705T150000
DTEND;TZID=Europe/Berlin:20260705T170000
DTSTAMP:20260424T162401
CREATED:20260317T143755Z
LAST-MODIFIED:20260317T143831Z
UID:8653-1783263600-1783270800@neuesglobetheater.de
SUMMARY:Don Quijote | Schlosspark Wiesenburg
DESCRIPTION:
URL:https://neuesglobetheater.de/termin/don-quijote-schlosspark-wiesenburg/
LOCATION:Wiesenburg – Schlosspark\, Schlossstraße 1\, Wiesenburg/Mark\, 14827
END:VEVENT
END:VCALENDAR