BEGIN:VCALENDAR
VERSION:2.0
PRODID:-//Neues Globe Theater - ECPv6.8.3//NONSGML v1.0//EN
CALSCALE:GREGORIAN
METHOD:PUBLISH
X-WR-CALNAME:Neues Globe Theater
X-ORIGINAL-URL:https://neuesglobetheater.de
X-WR-CALDESC:Veranstaltungen für Neues Globe Theater
REFRESH-INTERVAL;VALUE=DURATION:PT1H
X-Robots-Tag:noindex
X-PUBLISHED-TTL:PT1H
BEGIN:VTIMEZONE
TZID:Europe/Berlin
BEGIN:DAYLIGHT
TZOFFSETFROM:+0100
TZOFFSETTO:+0200
TZNAME:CEST
DTSTART:20260329T010000
END:DAYLIGHT
BEGIN:STANDARD
TZOFFSETFROM:+0200
TZOFFSETTO:+0100
TZNAME:CET
DTSTART:20261025T010000
END:STANDARD
END:VTIMEZONE
BEGIN:VEVENT
DTSTART;TZID=Europe/Berlin:20260601T200000
DTEND;TZID=Europe/Berlin:20260601T224000
DTSTAMP:20260424T145647
CREATED:20241224T074559Z
LAST-MODIFIED:20241224T074647Z
UID:7824-1780344000-1780353600@neuesglobetheater.de
SUMMARY:Mephisto | Hameln
DESCRIPTION:
URL:https://neuesglobetheater.de/termin/mephisto-hameln/
LOCATION:Theater Hameln\, Rathausplatz 5\, Hameln\, 31785\, Deutschland
END:VEVENT
BEGIN:VEVENT
DTSTART;TZID=Europe/Berlin:20260623T193000
DTEND;TZID=Europe/Berlin:20260623T220000
DTSTAMP:20260424T145647
CREATED:20250126T182634Z
LAST-MODIFIED:20260401T102903Z
UID:7863-1782243000-1782252000@neuesglobetheater.de
SUMMARY:Es war die Lerche | Bocholt
DESCRIPTION:
URL:https://neuesglobetheater.de/termin/es-war-die-lerche-bocholt/
LOCATION:Drosselsaal im TextilWerk\, Bocholt\, Industriestraße 5\, Bocholt\, 46395\, Deutschland
END:VEVENT
BEGIN:VEVENT
DTSTART;TZID=Europe/Berlin:20260625T200000
DTEND;TZID=Europe/Berlin:20260625T220000
DTSTAMP:20260424T145647
CREATED:20251001T163211Z
LAST-MODIFIED:20251015T074158Z
UID:8387-1782417600-1782424800@neuesglobetheater.de
SUMMARY:Draussen vor der Tür | Unterföhring
DESCRIPTION:
URL:https://neuesglobetheater.de/termin/draussen-vor-der-tuer-unterfoehring/
LOCATION:Bürgerhaus Unterföhring\, Münchner Straße 65\, Unterföhring\, 85774\, Deutschland
END:VEVENT
END:VCALENDAR