BEGIN:VCALENDAR
VERSION:2.0
PRODID:-//Neues Globe Theater - ECPv6.8.3//NONSGML v1.0//EN
CALSCALE:GREGORIAN
METHOD:PUBLISH
X-ORIGINAL-URL:https://neuesglobetheater.de
X-WR-CALDESC:Veranstaltungen für Neues Globe Theater
REFRESH-INTERVAL;VALUE=DURATION:PT1H
X-Robots-Tag:noindex
X-PUBLISHED-TTL:PT1H
BEGIN:VTIMEZONE
TZID:Europe/Berlin
BEGIN:DAYLIGHT
TZOFFSETFROM:+0100
TZOFFSETTO:+0200
TZNAME:CEST
DTSTART:20260329T010000
END:DAYLIGHT
BEGIN:STANDARD
TZOFFSETFROM:+0200
TZOFFSETTO:+0100
TZNAME:CET
DTSTART:20261025T010000
END:STANDARD
END:VTIMEZONE
BEGIN:VEVENT
DTSTART;TZID=Europe/Berlin:20260301T200000
DTEND;TZID=Europe/Berlin:20260301T224000
DTSTAMP:20260422T133408
CREATED:20241211T104503Z
LAST-MODIFIED:20250107T193449Z
UID:7791-1772395200-1772404800@neuesglobetheater.de
SUMMARY:Mephisto | Aschheim
DESCRIPTION:
URL:https://neuesglobetheater.de/termin/mephisto-aschheim/
LOCATION:Kulturelles Gebäude Aschheim\, Kulturelles Gebäude Münchner Str. 8\, Aschheim\, 85609
END:VEVENT
BEGIN:VEVENT
DTSTART;TZID=Europe/Berlin:20260307T200000
DTEND;TZID=Europe/Berlin:20260307T200000
DTSTAMP:20260422T133408
CREATED:20250602T090842Z
LAST-MODIFIED:20250602T090859Z
UID:8058-1772913600-1772913600@neuesglobetheater.de
SUMMARY:Don Quijote | Espelkamp
DESCRIPTION:
URL:https://neuesglobetheater.de/termin/don-quijote-espelkamp/
LOCATION:Theater Espelkamp\, Trakehner Str. 1\, Espelkamp\, 32339
END:VEVENT
BEGIN:VEVENT
DTSTART;TZID=Europe/Berlin:20260308T193000
DTEND;TZID=Europe/Berlin:20260308T221500
DTSTAMP:20260422T133408
CREATED:20250806T142750Z
LAST-MODIFIED:20260308T155125Z
UID:8182-1772998200-1773008100@neuesglobetheater.de
SUMMARY:Mephisto | Bad Arolsen
DESCRIPTION:
URL:https://neuesglobetheater.de/termin/mephisto-bad-arolsen/
LOCATION:Fürstliche Reitbahn des Welcome-Hotels Bad Arolsen\, Königin Emma Straße 10\, Bad Arolsen\, 34454\, Germany
END:VEVENT
BEGIN:VEVENT
DTSTART;TZID=Europe/Berlin:20260321T200000
DTEND;TZID=Europe/Berlin:20260321T223000
DTSTAMP:20260422T133408
CREATED:20250514T183928Z
LAST-MODIFIED:20260310T220902Z
UID:7990-1774123200-1774132200@neuesglobetheater.de
SUMMARY:Es war die Lerche | Espelkamp
DESCRIPTION:
URL:https://neuesglobetheater.de/termin/es-war-die-lerche-espelkamp-2/
LOCATION:Theater Espelkamp\, Trakehner Str. 1\, Espelkamp\, 32339
END:VEVENT
END:VCALENDAR