BEGIN:VCALENDAR
VERSION:2.0
PRODID:-//Neues Globe Theater - ECPv6.8.3//NONSGML v1.0//EN
CALSCALE:GREGORIAN
METHOD:PUBLISH
X-WR-CALNAME:Neues Globe Theater
X-ORIGINAL-URL:https://neuesglobetheater.de
X-WR-CALDESC:Veranstaltungen für Neues Globe Theater
REFRESH-INTERVAL;VALUE=DURATION:PT1H
X-Robots-Tag:noindex
X-PUBLISHED-TTL:PT1H
BEGIN:VTIMEZONE
TZID:Europe/Berlin
BEGIN:DAYLIGHT
TZOFFSETFROM:+0100
TZOFFSETTO:+0200
TZNAME:CEST
DTSTART:20260329T010000
END:DAYLIGHT
BEGIN:STANDARD
TZOFFSETFROM:+0200
TZOFFSETTO:+0100
TZNAME:CET
DTSTART:20261025T010000
END:STANDARD
END:VTIMEZONE
BEGIN:VEVENT
DTSTART;TZID=Europe/Berlin:20260206T193000
DTEND;TZID=Europe/Berlin:20260206T210000
DTSTAMP:20260424T102737
CREATED:20240920T151450Z
LAST-MODIFIED:20260205T183141Z
UID:7664-1770406200-1770411600@neuesglobetheater.de
SUMMARY:Sturm | Aschaffenburg
DESCRIPTION:
URL:https://neuesglobetheater.de/termin/sturm-aschaffenburg/
LOCATION:Stadttheater Aschaffenburg\, Schloßgasse 8\, Aschaffenburg\, 63739\, Deutschland
END:VEVENT
BEGIN:VEVENT
DTSTART;TZID=Europe/Berlin:20260209T200000
DTEND;TZID=Europe/Berlin:20260209T224000
DTSTAMP:20260424T102737
CREATED:20241213T160252Z
LAST-MODIFIED:20250722T144313Z
UID:7807-1770667200-1770676800@neuesglobetheater.de
SUMMARY:Mephisto | Verden an der Aller
DESCRIPTION:
URL:https://neuesglobetheater.de/termin/mephisto-verden-an-der-aller/
LOCATION:Stadthalle Verden\, Holzmarkt 15\, Verden an der Aller\, 27283\, Germany
END:VEVENT
BEGIN:VEVENT
DTSTART;TZID=Europe/Berlin:20260210T200000
DTEND;TZID=Europe/Berlin:20260210T224500
DTSTAMP:20260424T102737
CREATED:20250219T232119Z
LAST-MODIFIED:20250219T232119Z
UID:7920-1770753600-1770763500@neuesglobetheater.de
SUMMARY:Mephisto | Elmshorn
DESCRIPTION:
URL:https://neuesglobetheater.de/termin/mephisto-elmshorn/
LOCATION:Stadttheater Elmshorn\, Klostersande 30\, Elmshorn\, 25336\, Germany
END:VEVENT
BEGIN:VEVENT
DTSTART;TZID=Europe/Berlin:20260211T193000
DTEND;TZID=Europe/Berlin:20260211T221000
DTSTAMP:20260424T102737
CREATED:20250106T160055Z
LAST-MODIFIED:20250117T120525Z
UID:7832-1770838200-1770847800@neuesglobetheater.de
SUMMARY:Mephisto | Lingen
DESCRIPTION:
URL:https://neuesglobetheater.de/termin/mephisto-lingen/
LOCATION:Theater an der Wilhelmshöhe Lingen\, Willy-Brandt-Ring 44\, Lingen (Ems)\, 49808\, Deutschland
END:VEVENT
BEGIN:VEVENT
DTSTART;TZID=Europe/Berlin:20260212T200000
DTEND;TZID=Europe/Berlin:20260212T224500
DTSTAMP:20260424T102737
CREATED:20250709T084011Z
LAST-MODIFIED:20260120T185604Z
UID:8165-1770926400-1770936300@neuesglobetheater.de
SUMMARY:Mephisto | Oldenburg in Holstein
DESCRIPTION:
URL:https://neuesglobetheater.de/termin/mephisto-oldenburg-in-hostein/
LOCATION:Stadttheater Oldenburg i.H.\, Am Kuhhof 3\, Oldenburg in Holstein\, 23758\, Germany
END:VEVENT
BEGIN:VEVENT
DTSTART;TZID=Europe/Berlin:20260220T190000
DTEND;TZID=Europe/Berlin:20260220T210000
DTSTAMP:20260424T102737
CREATED:20240809T123817Z
LAST-MODIFIED:20260220T072032Z
UID:7426-1771614000-1771621200@neuesglobetheater.de
SUMMARY:Don Quijote | Finsterwalde
DESCRIPTION:
URL:https://neuesglobetheater.de/termin/don-quijote-finsterwalde/
LOCATION:Kulturweberei – Stadhalle Finsterwalde\, Oscar-Kjellberg-Straße 9\, Finsterwalde\, 03238\, Deutschland
END:VEVENT
BEGIN:VEVENT
DTSTART;TZID=Europe/Berlin:20260222T193000
DTEND;TZID=Europe/Berlin:20260222T221000
DTSTAMP:20260424T102737
CREATED:20241219T162512Z
LAST-MODIFIED:20241219T162512Z
UID:7810-1771788600-1771798200@neuesglobetheater.de
SUMMARY:Mephisto | Schüttorf
DESCRIPTION:
URL:https://neuesglobetheater.de/termin/mephisto-schuettorf/
LOCATION:Theater der Obergrafschaft\, Schüttorf\, Hermann-Schlikker-Straße 1\, Schüttorf\, 48465\, Germany
END:VEVENT
BEGIN:VEVENT
DTSTART;TZID=Europe/Berlin:20260226T200000
DTEND;TZID=Europe/Berlin:20260226T214500
DTSTAMP:20260424T102737
CREATED:20241111T150147Z
LAST-MODIFIED:20260220T073634Z
UID:7715-1772136000-1772142300@neuesglobetheater.de
SUMMARY:Don Quijote | Filderstadt
DESCRIPTION:
URL:https://neuesglobetheater.de/termin/don-quijote-filderstadt/
LOCATION:FILharmonie Filderstadt\, Tübinger Str. 40\, Filderstadt\, 70794\, Deutschland
END:VEVENT
BEGIN:VEVENT
DTSTART;TZID=Europe/Berlin:20260228T193000
DTEND;TZID=Europe/Berlin:20260228T213000
DTSTAMP:20260424T102737
CREATED:20240912T123907Z
LAST-MODIFIED:20260224T221408Z
UID:7637-1772307000-1772314200@neuesglobetheater.de
SUMMARY:Don Quijote | Gersthofen
DESCRIPTION:
URL:https://neuesglobetheater.de/termin/mephisto-gersthofen/
LOCATION:Stadthalle Gersthofen\, Rathausplatz 1\, Gersthofen\, 86368\, Deutschland
END:VEVENT
END:VCALENDAR