BEGIN:VCALENDAR
VERSION:2.0
PRODID:-//Neues Globe Theater - ECPv6.8.3//NONSGML v1.0//EN
CALSCALE:GREGORIAN
METHOD:PUBLISH
X-WR-CALNAME:Neues Globe Theater
X-ORIGINAL-URL:https://neuesglobetheater.de
X-WR-CALDESC:Veranstaltungen für Neues Globe Theater
REFRESH-INTERVAL;VALUE=DURATION:PT1H
X-Robots-Tag:noindex
X-PUBLISHED-TTL:PT1H
BEGIN:VTIMEZONE
TZID:Europe/Berlin
BEGIN:DAYLIGHT
TZOFFSETFROM:+0100
TZOFFSETTO:+0200
TZNAME:CEST
DTSTART:20250330T010000
END:DAYLIGHT
BEGIN:STANDARD
TZOFFSETFROM:+0200
TZOFFSETTO:+0100
TZNAME:CET
DTSTART:20251026T010000
END:STANDARD
END:VTIMEZONE
BEGIN:VEVENT
DTSTART;TZID=Europe/Berlin:20250401T200000
DTEND;TZID=Europe/Berlin:20250401T223000
DTSTAMP:20260423T094414
CREATED:20240207T194811Z
LAST-MODIFIED:20250314T220748Z
UID:6938-1743537600-1743546600@neuesglobetheater.de
SUMMARY:Mephisto | Neuburg an der Donau
DESCRIPTION:
URL:https://neuesglobetheater.de/termin/mephisto-neuburg-an-der-donau/
LOCATION:Stadttheater Neuburg an der Donau\, Residenzstraße A 67\, Neuburg an der Donau\, 86633\, Deutschland
END:VEVENT
BEGIN:VEVENT
DTSTART;TZID=Europe/Berlin:20250402T200000
DTEND;TZID=Europe/Berlin:20250402T224500
DTSTAMP:20260423T094414
CREATED:20231024T215939Z
LAST-MODIFIED:20231024T220029Z
UID:6771-1743624000-1743633900@neuesglobetheater.de
SUMMARY:Mephisto | Götzis (Österreich)
DESCRIPTION:
URL:https://neuesglobetheater.de/termin/mephisto-goetzis-oesterreich/
LOCATION:Kulturbühne AMBACH Götzis\, Am Bach 10\, Götzis\, Vorarlberg\, 6840\, Österreich
END:VEVENT
BEGIN:VEVENT
DTSTART;TZID=Europe/Berlin:20250403T200000
DTEND;TZID=Europe/Berlin:20250403T224500
DTSTAMP:20260423T094414
CREATED:20231023T105944Z
LAST-MODIFIED:20250314T221103Z
UID:6769-1743710400-1743720300@neuesglobetheater.de
SUMMARY:Mephisto | Tuttlingen
DESCRIPTION:
URL:https://neuesglobetheater.de/termin/mephisto-tuttlingen/
LOCATION:Stadthalle Tuttlingen\, Königstraße 39\, Tuttlingen\, 78532\, Deutschland
END:VEVENT
BEGIN:VEVENT
DTSTART;TZID=Europe/Berlin:20250407T200000
DTEND;TZID=Europe/Berlin:20250407T224500
DTSTAMP:20260423T094414
CREATED:20231016T091221Z
LAST-MODIFIED:20250314T221315Z
UID:6762-1744056000-1744065900@neuesglobetheater.de
SUMMARY:Mephisto | Minden
DESCRIPTION:
URL:https://neuesglobetheater.de/termin/mephisto-minden/
LOCATION:Stadttheater Minden\, Tonhallenstraße 3\, Minden\, 32423\, Deutschland
END:VEVENT
BEGIN:VEVENT
DTSTART;TZID=Europe/Berlin:20250427T160000
DTEND;TZID=Europe/Berlin:20250427T170000
DTSTAMP:20260423T094414
CREATED:20241209T120452Z
LAST-MODIFIED:20241209T120452Z
UID:7787-1745769600-1745773200@neuesglobetheater.de
SUMMARY:Max und Moritz (M&M) - Da ist noch was im Busch! | Unterföhring
DESCRIPTION:
URL:https://neuesglobetheater.de/termin/max-und-moritz-mm-da-ist-noch-was-im-busch-unterfoehring/
LOCATION:Bürgerhaus Unterföhring\, Münchner Straße 65\, Unterföhring\, 85774\, Deutschland
END:VEVENT
END:VCALENDAR