BEGIN:VCALENDAR
VERSION:2.0
PRODID:-//Neues Globe Theater - ECPv6.8.3//NONSGML v1.0//EN
CALSCALE:GREGORIAN
METHOD:PUBLISH
X-ORIGINAL-URL:https://neuesglobetheater.de
X-WR-CALDESC:Veranstaltungen für Neues Globe Theater
REFRESH-INTERVAL;VALUE=DURATION:PT1H
X-Robots-Tag:noindex
X-PUBLISHED-TTL:PT1H
BEGIN:VTIMEZONE
TZID:Europe/Berlin
BEGIN:DAYLIGHT
TZOFFSETFROM:+0100
TZOFFSETTO:+0200
TZNAME:CEST
DTSTART:20250330T010000
END:DAYLIGHT
BEGIN:STANDARD
TZOFFSETFROM:+0200
TZOFFSETTO:+0100
TZNAME:CET
DTSTART:20251026T010000
END:STANDARD
END:VTIMEZONE
BEGIN:VEVENT
DTSTART;TZID=Europe/Berlin:20250305T200000
DTEND;TZID=Europe/Berlin:20250305T225500
DTSTAMP:20260423T082154
CREATED:20231206T160154Z
LAST-MODIFIED:20250305T081145Z
UID:6824-1741204800-1741215300@neuesglobetheater.de
SUMMARY:Mephisto | Buxtehude
DESCRIPTION:
URL:https://neuesglobetheater.de/termin/mephisto-buxtehude/
LOCATION:Halepaghen-Bühne Buxtehude\, Halepaghen Schule Konopkastraße 5\, Buxtehude\, 21614\, Deutschland
END:VEVENT
BEGIN:VEVENT
DTSTART;TZID=Europe/Berlin:20250306T193000
DTEND;TZID=Europe/Berlin:20250306T222500
DTSTAMP:20260423T082154
CREATED:20231207T090258Z
LAST-MODIFIED:20250303T140836Z
UID:6831-1741289400-1741299900@neuesglobetheater.de
SUMMARY:Mephisto | Bad Bramstedt
DESCRIPTION:
URL:https://neuesglobetheater.de/termin/mephisto-bad-bramstedt/
LOCATION:Kurhaustheater Bad Bramstedt\, Bleeck 16\, Bad Bramstedt\, 24576\, Deutschland
END:VEVENT
BEGIN:VEVENT
DTSTART;TZID=Europe/Berlin:20250314T200000
DTEND;TZID=Europe/Berlin:20250314T220000
DTSTAMP:20260423T082154
CREATED:20230922T134732Z
LAST-MODIFIED:20230922T134732Z
UID:6744-1741982400-1741989600@neuesglobetheater.de
SUMMARY:Diener zweier Herren | Offenburg
DESCRIPTION:
URL:https://neuesglobetheater.de/termin/diener-zweier-herren-offenburg/
LOCATION:Oberrheinhalle Offenburg\, Schutterwälder Str. 3\, Offenburg\, 77656
END:VEVENT
BEGIN:VEVENT
DTSTART;TZID=Europe/Berlin:20250315T193000
DTEND;TZID=Europe/Berlin:20250315T213000
DTSTAMP:20260423T082154
CREATED:20240207T114844Z
LAST-MODIFIED:20250314T112543Z
UID:6934-1742067000-1742074200@neuesglobetheater.de
SUMMARY:Diener zweier Herren | Singen
DESCRIPTION:
URL:https://neuesglobetheater.de/termin/diener-zweier-herren-singen/
LOCATION:Stadthalle Singen\, Hohgarten 4\, Singen\, 78224\, Deutschland
END:VEVENT
BEGIN:VEVENT
DTSTART;TZID=Europe/Berlin:20250320T200000
DTEND;TZID=Europe/Berlin:20250320T224000
DTSTAMP:20260423T082154
CREATED:20240601T110345Z
LAST-MODIFIED:20240601T111025Z
UID:7252-1742500800-1742510400@neuesglobetheater.de
SUMMARY:Mephisto | Bietigheim-Bissingen
DESCRIPTION:
URL:https://neuesglobetheater.de/termin/mephisto-bietigheim-bissingen/
LOCATION:Kronenzentrum Bietigheim-Bissingen\, Mühlwiesenstr. 6\, Bietigheim-Bissingen\, 74321
END:VEVENT
BEGIN:VEVENT
DTSTART;TZID=Europe/Berlin:20250321T200000
DTEND;TZID=Europe/Berlin:20250321T224500
DTSTAMP:20260423T082154
CREATED:20231120T103916Z
LAST-MODIFIED:20240411T165616Z
UID:6805-1742587200-1742597100@neuesglobetheater.de
SUMMARY:Mephisto | Dillingen (Saar)
DESCRIPTION:
URL:https://neuesglobetheater.de/termin/mephisto-dillingen-saar/
LOCATION:Stadthalle Dillingen (Saar)\, Pachtener Str. 1\, Dillingen/Saar\, 66763
END:VEVENT
BEGIN:VEVENT
DTSTART;TZID=Europe/Berlin:20250322T193000
DTEND;TZID=Europe/Berlin:20250322T222000
DTSTAMP:20260423T082154
CREATED:20230928T164823Z
LAST-MODIFIED:20230929T083812Z
UID:6747-1742671800-1742682000@neuesglobetheater.de
SUMMARY:Mephisto | Schwalbach am Taunus
DESCRIPTION:
URL:https://neuesglobetheater.de/termin/mephisto-schwalbach-am-taunus/
LOCATION:Bürgerhaus Schwalbach am Taunus\, Großer Saal\, Marktplatz 1\, Schwalbach am Taunus\, 65824\, Deutschland
END:VEVENT
BEGIN:VEVENT
DTSTART;TZID=Europe/Berlin:20250325T193000
DTEND;TZID=Europe/Berlin:20250325T221500
DTSTAMP:20260423T082154
CREATED:20240128T142125Z
LAST-MODIFIED:20250314T160921Z
UID:6923-1742931000-1742940900@neuesglobetheater.de
SUMMARY:Die Streiche des Scapin | Fürth
DESCRIPTION:
URL:https://neuesglobetheater.de/termin/die-streiche-des-scapin-fuerth/
LOCATION:Stadttheater Fürth\, Königstr. 116\, Fürth\, 90762\, Deutschland
END:VEVENT
BEGIN:VEVENT
DTSTART;TZID=Europe/Berlin:20250326T193000
DTEND;TZID=Europe/Berlin:20250326T221500
DTSTAMP:20260423T082154
CREATED:20240128T142213Z
LAST-MODIFIED:20250314T160854Z
UID:6925-1743017400-1743027300@neuesglobetheater.de
SUMMARY:Die Streiche des Scapin | Fürth
DESCRIPTION:
URL:https://neuesglobetheater.de/termin/die-streiche-des-scapin-fuerth-2/
LOCATION:Stadttheater Fürth\, Königstr. 116\, Fürth\, 90762\, Deutschland
END:VEVENT
BEGIN:VEVENT
DTSTART;TZID=Europe/Berlin:20250327T193000
DTEND;TZID=Europe/Berlin:20250327T221500
DTSTAMP:20260423T082154
CREATED:20231207T085612Z
LAST-MODIFIED:20250314T220149Z
UID:6826-1743103800-1743113700@neuesglobetheater.de
SUMMARY:Die Streiche des Scapin | Uelzen
DESCRIPTION:
URL:https://neuesglobetheater.de/termin/die-streiche-des-scapin-uelzen/
LOCATION:Theater an der Ilmenau Uelzen\, Greyerstraße 3\, Uelzen\, 29525
END:VEVENT
BEGIN:VEVENT
DTSTART;TZID=Europe/Berlin:20250328T200000
DTEND;TZID=Europe/Berlin:20250328T223000
DTSTAMP:20260423T082154
CREATED:20231214T191341Z
LAST-MODIFIED:20250314T220536Z
UID:6851-1743192000-1743201000@neuesglobetheater.de
SUMMARY:Die Streiche des Scapin | Ratingen
DESCRIPTION:
URL:https://neuesglobetheater.de/termin/die-streiche-des-scapin-ratingen/
LOCATION:Stadttheater Ratingen\, Europaring 9\, Ratingen\, 40878
END:VEVENT
BEGIN:VEVENT
DTSTART;TZID=Europe/Berlin:20250331T193000
DTEND;TZID=Europe/Berlin:20250331T221500
DTSTAMP:20260423T082154
CREATED:20240701T164701Z
LAST-MODIFIED:20250305T093931Z
UID:7350-1743449400-1743459300@neuesglobetheater.de
SUMMARY:Mephisto | Offenbach am Main
DESCRIPTION:
URL:https://neuesglobetheater.de/termin/mephisto-offenbach-am-main/
LOCATION:Capitol\, Offenbach am Main\, Goethestraße 1-5\, Offenbach am Main\, Hessen\, 63067
END:VEVENT
END:VCALENDAR