BEGIN:VCALENDAR
VERSION:2.0
PRODID:-//Neues Globe Theater - ECPv6.8.3//NONSGML v1.0//EN
CALSCALE:GREGORIAN
METHOD:PUBLISH
X-WR-CALNAME:Neues Globe Theater
X-ORIGINAL-URL:https://neuesglobetheater.de
X-WR-CALDESC:Veranstaltungen für Neues Globe Theater
REFRESH-INTERVAL;VALUE=DURATION:PT1H
X-Robots-Tag:noindex
X-PUBLISHED-TTL:PT1H
BEGIN:VTIMEZONE
TZID:Europe/Berlin
BEGIN:DAYLIGHT
TZOFFSETFROM:+0100
TZOFFSETTO:+0200
TZNAME:CEST
DTSTART:20240331T010000
END:DAYLIGHT
BEGIN:STANDARD
TZOFFSETFROM:+0200
TZOFFSETTO:+0100
TZNAME:CET
DTSTART:20241027T010000
END:STANDARD
END:VTIMEZONE
BEGIN:VEVENT
DTSTART;TZID=Europe/Berlin:20241201T180000
DTEND;TZID=Europe/Berlin:20241201T191000
DTSTAMP:20260423T041627
CREATED:20240120T150051Z
LAST-MODIFIED:20241111T132854Z
UID:6899-1733076000-1733080200@neuesglobetheater.de
SUMMARY:Max und Moritz (M&M) - Da ist noch was im Busch! | Neumünster
DESCRIPTION:
URL:https://neuesglobetheater.de/termin/max-und-moritz-mm-da-ist-noch-was-im-busch-neumuenster-2/
LOCATION:Theater in der Stadthalle Neumünster\, Kleinflecken 1\, Neumünster\, 24534\, Deutschland
END:VEVENT
BEGIN:VEVENT
DTSTART;TZID=Europe/Berlin:20241208T150000
DTEND;TZID=Europe/Berlin:20241208T160000
DTSTAMP:20260423T041627
CREATED:20230610T164945Z
LAST-MODIFIED:20241204T161607Z
UID:6534-1733670000-1733673600@neuesglobetheater.de
SUMMARY:Max und Moritz (M&M) - Da ist noch was im Busch! | Großhansdorf
DESCRIPTION:
URL:https://neuesglobetheater.de/termin/max-und-moritz-mm-da-ist-noch-was-im-busch-grosshansdorf/
LOCATION:Waldreitersaal Großhansdorf\, Barkholt 64\, Großhansdorf\, Schleswig-Holstein\, 22927\, Deutschland
END:VEVENT
BEGIN:VEVENT
DTSTART;TZID=Europe/Berlin:20241213T100000
DTEND;TZID=Europe/Berlin:20241213T110000
DTSTAMP:20260423T041627
CREATED:20240728T201342Z
LAST-MODIFIED:20240728T201426Z
UID:7384-1734084000-1734087600@neuesglobetheater.de
SUMMARY:Max und Moritz (M&M) - Da ist noch was im Busch! | Bad Bramstedt
DESCRIPTION:
URL:https://neuesglobetheater.de/termin/max-und-moritz-mm-da-ist-noch-was-im-busch-bad-bramstedt/
LOCATION:Kurhaustheater Bad Bramstedt\, Bleeck 16\, Bad Bramstedt\, 24576\, Deutschland
END:VEVENT
BEGIN:VEVENT
DTSTART;TZID=Europe/Berlin:20241213T170000
DTEND;TZID=Europe/Berlin:20241213T180000
DTSTAMP:20260423T041627
CREATED:20240728T201658Z
LAST-MODIFIED:20240728T201658Z
UID:7387-1734109200-1734112800@neuesglobetheater.de
SUMMARY:Max und Moritz (M&M) - Da ist noch was im Busch! | Bad Bramstedt
DESCRIPTION:
URL:https://neuesglobetheater.de/termin/max-und-moritz-mm-da-ist-noch-was-im-busch-bad-bramstedt-2/
LOCATION:Kurhaustheater Bad Bramstedt\, Bleeck 16\, Bad Bramstedt\, 24576\, Deutschland
END:VEVENT
BEGIN:VEVENT
DTSTART;TZID=Europe/Berlin:20241215T150000
DTEND;TZID=Europe/Berlin:20241215T160000
DTSTAMP:20260423T041627
CREATED:20240120T145704Z
LAST-MODIFIED:20240909T075953Z
UID:6890-1734274800-1734278400@neuesglobetheater.de
SUMMARY:Max und Moritz (M&M) - Da ist noch was im Busch! | Stade
DESCRIPTION:
URL:https://neuesglobetheater.de/termin/max-und-moritz-mm-da-ist-noch-was-im-busch-stade/
LOCATION:Stadeum in Stade\, Schiffertorsstraße 6\, Stade\, 21682
END:VEVENT
BEGIN:VEVENT
DTSTART;TZID=Europe/Berlin:20241216T100000
DTEND;TZID=Europe/Berlin:20241216T110000
DTSTAMP:20260423T041627
CREATED:20240120T145851Z
LAST-MODIFIED:20240909T080015Z
UID:6895-1734343200-1734346800@neuesglobetheater.de
SUMMARY:Max und Moritz (M&M) - Da ist noch was im Busch! | Stade
DESCRIPTION:
URL:https://neuesglobetheater.de/termin/max-und-moritz-mm-da-ist-noch-was-im-busch-stade-2/
LOCATION:Stadeum in Stade\, Schiffertorsstraße 6\, Stade\, 21682
END:VEVENT
BEGIN:VEVENT
DTSTART;TZID=Europe/Berlin:20241217T200000
DTEND;TZID=Europe/Berlin:20241217T220000
DTSTAMP:20260423T041627
CREATED:20231114T150757Z
LAST-MODIFIED:20240207T114020Z
UID:6794-1734465600-1734472800@neuesglobetheater.de
SUMMARY:Diener zweier Herren | Lingen
DESCRIPTION:
URL:https://neuesglobetheater.de/termin/der-tollste-tag-oder-figaros-hochzeit-lingen/
LOCATION:Theater an der Wilhelmshöhe Lingen\, Willy-Brandt-Ring 44\, Lingen (Ems)\, 49808\, Deutschland
END:VEVENT
END:VCALENDAR