BEGIN:VCALENDAR
VERSION:2.0
PRODID:-//Neues Globe Theater - ECPv6.8.3//NONSGML v1.0//EN
CALSCALE:GREGORIAN
METHOD:PUBLISH
X-WR-CALNAME:Neues Globe Theater
X-ORIGINAL-URL:https://neuesglobetheater.de
X-WR-CALDESC:Veranstaltungen für Neues Globe Theater
REFRESH-INTERVAL;VALUE=DURATION:PT1H
X-Robots-Tag:noindex
X-PUBLISHED-TTL:PT1H
BEGIN:VTIMEZONE
TZID:Europe/Berlin
BEGIN:DAYLIGHT
TZOFFSETFROM:+0100
TZOFFSETTO:+0200
TZNAME:CEST
DTSTART:20240331T010000
END:DAYLIGHT
BEGIN:STANDARD
TZOFFSETFROM:+0200
TZOFFSETTO:+0100
TZNAME:CET
DTSTART:20241027T010000
END:STANDARD
END:VTIMEZONE
BEGIN:VEVENT
DTSTART;TZID=Europe/Berlin:20241114T200000
DTEND;TZID=Europe/Berlin:20241114T224500
DTSTAMP:20260423T025516
CREATED:20220710T091352Z
LAST-MODIFIED:20231124T121238Z
UID:5417-1731614400-1731624300@neuesglobetheater.de
SUMMARY:Mephisto | Wolfenbüttel
DESCRIPTION:
URL:https://neuesglobetheater.de/termin/231125-mephisto-wolfenbuettel/
LOCATION:Lessingtheater Wolfenbüttel\, Harztorwall 16\, Wolfenbüttel\, 38300
END:VEVENT
BEGIN:VEVENT
DTSTART;TZID=Europe/Berlin:20241115T200000
DTEND;TZID=Europe/Berlin:20241115T224500
DTSTAMP:20260423T025516
CREATED:20240306T082030Z
LAST-MODIFIED:20240306T082030Z
UID:6990-1731700800-1731710700@neuesglobetheater.de
SUMMARY:Mephisto | Idar-Oberstein
DESCRIPTION:
URL:https://neuesglobetheater.de/termin/mephisto-idar-oberstein/
LOCATION:Stadttheater Idar-Oberstein\, Wilhelmstraße 22\, Idar-Oberstein\, 55743\, Deutschland
END:VEVENT
BEGIN:VEVENT
DTSTART;TZID=Europe/Berlin:20241119T200000
DTEND;TZID=Europe/Berlin:20241119T213000
DTSTAMP:20260423T025516
CREATED:20231219T111409Z
LAST-MODIFIED:20241220T081137Z
UID:6855-1732046400-1732051800@neuesglobetheater.de
SUMMARY:Sturm | Burghausen
DESCRIPTION:
URL:https://neuesglobetheater.de/termin/sturm-burghausen/
LOCATION:Stadtsaal Burghausen\, Stadtplatz 108\, Burghausen\, 84489\, Deutschland
END:VEVENT
BEGIN:VEVENT
DTSTART;TZID=Europe/Berlin:20241127T193000
DTEND;TZID=Europe/Berlin:20241127T221500
DTSTAMP:20260423T025516
CREATED:20231214T130124Z
LAST-MODIFIED:20240726T161819Z
UID:6848-1732735800-1732745700@neuesglobetheater.de
SUMMARY:Mephisto | Arnsberg
DESCRIPTION:Tickets HIER >>
URL:https://neuesglobetheater.de/termin/mephisto-arnsberg/
LOCATION:Sauerland-Theater Arnsberg\, Feauxweg 9\, Arnsberg\, 59821\, Deutschland
END:VEVENT
BEGIN:VEVENT
DTSTART;TZID=Europe/Berlin:20241128T200000
DTEND;TZID=Europe/Berlin:20241128T224500
DTSTAMP:20260423T025516
CREATED:20230628T134932Z
LAST-MODIFIED:20240726T161739Z
UID:6589-1732824000-1732833900@neuesglobetheater.de
SUMMARY:Mephisto | Bensheim
DESCRIPTION:
URL:https://neuesglobetheater.de/termin/mephisto-bensheim/
LOCATION:Parktheater Bensheim\, Promenadenstraße 25\, Bensheim\, 64625\, Deutschland
END:VEVENT
END:VCALENDAR