BEGIN:VCALENDAR
VERSION:2.0
PRODID:-//Neues Globe Theater - ECPv6.8.3//NONSGML v1.0//EN
CALSCALE:GREGORIAN
METHOD:PUBLISH
X-ORIGINAL-URL:https://neuesglobetheater.de
X-WR-CALDESC:Veranstaltungen für Neues Globe Theater
REFRESH-INTERVAL;VALUE=DURATION:PT1H
X-Robots-Tag:noindex
X-PUBLISHED-TTL:PT1H
BEGIN:VTIMEZONE
TZID:Europe/Berlin
BEGIN:DAYLIGHT
TZOFFSETFROM:+0100
TZOFFSETTO:+0200
TZNAME:CEST
DTSTART:20240331T010000
END:DAYLIGHT
BEGIN:STANDARD
TZOFFSETFROM:+0200
TZOFFSETTO:+0100
TZNAME:CET
DTSTART:20241027T010000
END:STANDARD
END:VTIMEZONE
BEGIN:VEVENT
DTSTART;TZID=Europe/Berlin:20240901T200000
DTEND;TZID=Europe/Berlin:20240901T220000
DTSTAMP:20260422T234032
CREATED:20240307T103133Z
LAST-MODIFIED:20240818T131648Z
UID:7007-1725220800-1725228000@neuesglobetheater.de
SUMMARY:Diener zweier Herren | Schirrhofnächte Potsdam
DESCRIPTION:Tickets über Reservix HIER >>
URL:https://neuesglobetheater.de/termin/diener-zweier-herren-schirrhofnaechte-potsdam-4/
LOCATION:T-Werk – Schirrhofnächte\, Schiffbauergasse 4 E\, Potsdam\, 14467\, Deutschland
END:VEVENT
BEGIN:VEVENT
DTSTART;TZID=Europe/Berlin:20240903T100000
DTEND;TZID=Europe/Berlin:20240903T120000
DTSTAMP:20260422T234032
CREATED:20240126T154907Z
LAST-MODIFIED:20240126T154907Z
UID:6919-1725357600-1725364800@neuesglobetheater.de
SUMMARY:Diener zweier Herren | Niedergörsdorf
DESCRIPTION:
URL:https://neuesglobetheater.de/termin/diener-zweier-herren-niedergoersdorf/
LOCATION:Kulturzentrum DAS HAUS – Gemeinde Niedergörsdorf OT Altes Lager\, Kastanienallee 21\, Niedergörsdorf\, Brandenburg\, 14913\, Deutschland
END:VEVENT
BEGIN:VEVENT
DTSTART;TZID=Europe/Berlin:20240918T193000
DTEND;TZID=Europe/Berlin:20240918T213000
DTSTAMP:20260422T234032
CREATED:20240123T114832Z
LAST-MODIFIED:20240917T082202Z
UID:6907-1726687800-1726695000@neuesglobetheater.de
SUMMARY:Diener zweier Herren | Norderstedt
DESCRIPTION:
URL:https://neuesglobetheater.de/termin/diener-zweier-herren-norderstedt/
LOCATION:Tribühne Norderstedt\, Am Kulturwerk 1\, Norderstedt\, 22844\, Deutschland
END:VEVENT
BEGIN:VEVENT
DTSTART;TZID=Europe/Berlin:20240922T180000
DTEND;TZID=Europe/Berlin:20240922T200000
DTSTAMP:20260422T234032
CREATED:20240123T115539Z
LAST-MODIFIED:20240917T082418Z
UID:6909-1727028000-1727035200@neuesglobetheater.de
SUMMARY:Diener zweier Herren |  Hamburg-Bergedorf
DESCRIPTION:
URL:https://neuesglobetheater.de/termin/diener-zweier-herren-hamburg-bergedorf/
LOCATION:LichtwarkTheater im KörberHaus\, Hamburg-Bergedorf\, Holzhude 1\, Hamburg-Bergedorf\, 21029\, Deutschland
END:VEVENT
BEGIN:VEVENT
DTSTART;TZID=Europe/Berlin:20240929T160000
DTEND;TZID=Europe/Berlin:20240929T170000
DTSTAMP:20260422T234032
CREATED:20231110T122703Z
LAST-MODIFIED:20240809T122028Z
UID:6784-1727625600-1727629200@neuesglobetheater.de
SUMMARY:Max und Moritz (M&M) - Da ist noch was im Busch! | Hockenheim
DESCRIPTION:Tickets:\ntickets@stadthalle-hockenheim.de
URL:https://neuesglobetheater.de/termin/max-und-moritz-mm-da-ist-noch-was-im-busch-hockenheim/
LOCATION:Stadthalle Hockenheim\, Rathausstraße 3\, Hockenheim\, 68766
END:VEVENT
END:VCALENDAR