BEGIN:VCALENDAR
VERSION:2.0
PRODID:-//Neues Globe Theater - ECPv6.8.3//NONSGML v1.0//EN
CALSCALE:GREGORIAN
METHOD:PUBLISH
X-ORIGINAL-URL:https://neuesglobetheater.de
X-WR-CALDESC:Veranstaltungen für Neues Globe Theater
REFRESH-INTERVAL;VALUE=DURATION:PT1H
X-Robots-Tag:noindex
X-PUBLISHED-TTL:PT1H
BEGIN:VTIMEZONE
TZID:Europe/Berlin
BEGIN:DAYLIGHT
TZOFFSETFROM:+0100
TZOFFSETTO:+0200
TZNAME:CEST
DTSTART:20240331T010000
END:DAYLIGHT
BEGIN:STANDARD
TZOFFSETFROM:+0200
TZOFFSETTO:+0100
TZNAME:CET
DTSTART:20241027T010000
END:STANDARD
END:VTIMEZONE
BEGIN:VEVENT
DTSTART;TZID=Europe/Berlin:20240604T180000
DTEND;TZID=Europe/Berlin:20240604T190000
DTSTAMP:20260424T104007
CREATED:20230411T094450Z
LAST-MODIFIED:20240315T120202Z
UID:6154-1717524000-1717527600@neuesglobetheater.de
SUMMARY:Max und Moritz (M&M) - Da ist noch was im Busch! | Kaufbeuren
DESCRIPTION:
URL:https://neuesglobetheater.de/termin/240604-max-und-moritz-kaufbeuren/
LOCATION:Stadttheater Kaufbeuren\, Rosental 8\, Kaufbeuren\, 87600\, Deutschland
END:VEVENT
BEGIN:VEVENT
DTSTART;TZID=Europe/Berlin:20240628T193000
DTEND;TZID=Europe/Berlin:20240628T214000
DTSTAMP:20260424T104007
CREATED:20240416T162941Z
LAST-MODIFIED:20240416T162941Z
UID:7051-1719603000-1719610800@neuesglobetheater.de
SUMMARY:Don Quijote | Cottbus
DESCRIPTION:
URL:https://neuesglobetheater.de/termin/don-quijote-cottbus/
LOCATION:TheaterNative C / Kleine Komödie Cottbus\, Petersilienstr. 24\, Cottbus\, 03044\, Deutschland
END:VEVENT
END:VCALENDAR