BEGIN:VCALENDAR
VERSION:2.0
PRODID:-//Neues Globe Theater - ECPv6.8.3//NONSGML v1.0//EN
CALSCALE:GREGORIAN
METHOD:PUBLISH
X-ORIGINAL-URL:https://neuesglobetheater.de
X-WR-CALDESC:Veranstaltungen für Neues Globe Theater
REFRESH-INTERVAL;VALUE=DURATION:PT1H
X-Robots-Tag:noindex
X-PUBLISHED-TTL:PT1H
BEGIN:VTIMEZONE
TZID:Europe/Berlin
BEGIN:DAYLIGHT
TZOFFSETFROM:+0100
TZOFFSETTO:+0200
TZNAME:CEST
DTSTART:20240331T010000
END:DAYLIGHT
BEGIN:STANDARD
TZOFFSETFROM:+0200
TZOFFSETTO:+0100
TZNAME:CET
DTSTART:20241027T010000
END:STANDARD
END:VTIMEZONE
BEGIN:VEVENT
DTSTART;TZID=Europe/Berlin:20240202T200000
DTEND;TZID=Europe/Berlin:20240202T213000
DTSTAMP:20260422T135452
CREATED:20221115T143002Z
LAST-MODIFIED:20221115T143002Z
UID:5880-1706904000-1706909400@neuesglobetheater.de
SUMMARY:Sturm | Neuburg an der Donau
DESCRIPTION:
URL:https://neuesglobetheater.de/termin/240202-sturm-neuburg-an-der-donau/
LOCATION:Stadttheater Neuburg an der Donau\, Residenzstraße A 67\, Neuburg an der Donau\, 86633\, Deutschland
END:VEVENT
BEGIN:VEVENT
DTSTART;TZID=Europe/Berlin:20240206T193000
DTEND;TZID=Europe/Berlin:20240206T223000
DTSTAMP:20260422T135452
CREATED:20220810T081101Z
LAST-MODIFIED:20240117T124132Z
UID:5458-1707247800-1707258600@neuesglobetheater.de
SUMMARY:Mephisto | Neu-Isenburg
DESCRIPTION:Neu
URL:https://neuesglobetheater.de/termin/240118-mephisto-neu-isenburg/
LOCATION:Hugenottenhalle Neu-Isenburg\, Frankfurter Str. 152\, Neu-Isenburg\, 63263\, Deutschland
END:VEVENT
BEGIN:VEVENT
DTSTART;TZID=Europe/Berlin:20240209T193000
DTEND;TZID=Europe/Berlin:20240209T214000
DTSTAMP:20260422T135452
CREATED:20230601T104251Z
LAST-MODIFIED:20240208T171029Z
UID:6478-1707507000-1707514800@neuesglobetheater.de
SUMMARY:Der Tollste Tag oder Figaros Hochzeit | Marl
DESCRIPTION:Zum vorerst letzten Mal!
URL:https://neuesglobetheater.de/termin/figaro-marl/
LOCATION:Theater Marl\, Am Theater 1\, Marl\, 45768\, Deutschland
END:VEVENT
BEGIN:VEVENT
DTSTART;TZID=Europe/Berlin:20240217T193000
DTEND;TZID=Europe/Berlin:20240217T211500
DTSTAMP:20260422T135452
CREATED:20230414T203007Z
LAST-MODIFIED:20240216T222032Z
UID:6159-1708198200-1708204500@neuesglobetheater.de
SUMMARY:Don Quijote | Staßfurt
DESCRIPTION:
URL:https://neuesglobetheater.de/termin/240217/
LOCATION:Salzlandtheater Staßfurt\, Tränental 6\, Staßfurt\, Sachsen-Anhalt\, 39418\, Deutschland
END:VEVENT
BEGIN:VEVENT
DTSTART;TZID=Europe/Berlin:20240218T180000
DTEND;TZID=Europe/Berlin:20240218T194500
DTSTAMP:20260422T135452
CREATED:20230329T121756Z
LAST-MODIFIED:20230329T121756Z
UID:6149-1708279200-1708285500@neuesglobetheater.de
SUMMARY:Don Quijote | Hamburg-Bergedorf
DESCRIPTION:
URL:https://neuesglobetheater.de/termin/240218-don-quijote-hamburg-bergedorf/
LOCATION:LichtwarkTheater im KörberHaus\, Hamburg-Bergedorf\, Holzhude 1\, Hamburg-Bergedorf\, 21029\, Deutschland
END:VEVENT
BEGIN:VEVENT
DTSTART;TZID=Europe/Berlin:20240220T200000
DTEND;TZID=Europe/Berlin:20240220T211000
DTSTAMP:20260422T135452
CREATED:20230116T101613Z
LAST-MODIFIED:20230116T101613Z
UID:5961-1708459200-1708463400@neuesglobetheater.de
SUMMARY:Ein deutsches Leben | Nienburg
DESCRIPTION:
URL:https://neuesglobetheater.de/termin/240220-ein-deutsches-leben-nienburg/
LOCATION:Theater auf dem Hornwerk\, Nienburg\, Mühlentorsweg 2\, Nienburg\, 31582\, Deutschland
END:VEVENT
BEGIN:VEVENT
DTSTART;TZID=Europe/Berlin:20240222T200000
DTEND;TZID=Europe/Berlin:20240222T220000
DTSTAMP:20260422T135452
CREATED:20230531T164156Z
LAST-MODIFIED:20230531T164156Z
UID:6466-1708632000-1708639200@neuesglobetheater.de
SUMMARY:INDIEN - Eine Schnitzeljagd durch die deutsche Provinz | Bocholt
DESCRIPTION:
URL:https://neuesglobetheater.de/termin/indien-eine-schnitzeljagd-durch-die-deutsche-provinz-bocholt/
LOCATION:Drosselsaal im TextilWerk\, Bocholt\, Industriestraße 5\, Bocholt\, 46395\, Deutschland
END:VEVENT
BEGIN:VEVENT
DTSTART;TZID=Europe/Berlin:20240224T200000
DTEND;TZID=Europe/Berlin:20240224T223000
DTSTAMP:20260422T135452
CREATED:20220602T065145Z
LAST-MODIFIED:20230623T073045Z
UID:5362-1708804800-1708813800@neuesglobetheater.de
SUMMARY:Die Streiche des Scapin | Espelkamp
DESCRIPTION:
URL:https://neuesglobetheater.de/termin/240224-scapin-espelkamp/
LOCATION:Theater Espelkamp\, Trakehner Str. 1\, Espelkamp\, 32339
END:VEVENT
BEGIN:VEVENT
DTSTART;TZID=Europe/Berlin:20240226T200000
DTEND;TZID=Europe/Berlin:20240226T214000
DTSTAMP:20260422T135452
CREATED:20230214T115252Z
LAST-MODIFIED:20230216T204810Z
UID:6017-1708977600-1708983600@neuesglobetheater.de
SUMMARY:Don Quijote | Minden
DESCRIPTION:
URL:https://neuesglobetheater.de/termin/240226-don-quijote-minden/
LOCATION:Stadttheater Minden\, Tonhallenstraße 3\, Minden\, 32423\, Deutschland
END:VEVENT
BEGIN:VEVENT
DTSTART;TZID=Europe/Berlin:20240228T100000
DTEND;TZID=Europe/Berlin:20240228T110000
DTSTAMP:20260422T135452
CREATED:20230214T114748Z
LAST-MODIFIED:20230623T073008Z
UID:6013-1709114400-1709118000@neuesglobetheater.de
SUMMARY:Max und Moritz (M&M) - Da ist noch was im Busch! | Sögel
DESCRIPTION:
URL:https://neuesglobetheater.de/termin/240228-max-und-moritz-soegel/
LOCATION:Aula des Hümmling-Gymnasiums\, Sögel\, Schlaunallee 10\, Sögel\, 49751\, Deutschland
END:VEVENT
BEGIN:VEVENT
DTSTART;TZID=Europe/Berlin:20240229T100000
DTEND;TZID=Europe/Berlin:20240229T110000
DTSTAMP:20260422T135452
CREATED:20230214T114903Z
LAST-MODIFIED:20230623T072948Z
UID:6015-1709200800-1709204400@neuesglobetheater.de
SUMMARY:Max und Moritz (M&M) - Da ist noch was im Busch! | Sögel
DESCRIPTION:
URL:https://neuesglobetheater.de/termin/240229-max-und-moritz-soegel/
LOCATION:Aula des Hümmling-Gymnasiums\, Sögel\, Schlaunallee 10\, Sögel\, 49751\, Deutschland
END:VEVENT
END:VCALENDAR