BEGIN:VCALENDAR
VERSION:2.0
PRODID:-//Neues Globe Theater - ECPv6.8.3//NONSGML v1.0//EN
CALSCALE:GREGORIAN
METHOD:PUBLISH
X-ORIGINAL-URL:https://neuesglobetheater.de
X-WR-CALDESC:Veranstaltungen für Neues Globe Theater
REFRESH-INTERVAL;VALUE=DURATION:PT1H
X-Robots-Tag:noindex
X-PUBLISHED-TTL:PT1H
BEGIN:VTIMEZONE
TZID:Europe/Berlin
BEGIN:DAYLIGHT
TZOFFSETFROM:+0100
TZOFFSETTO:+0200
TZNAME:CEST
DTSTART:20230326T010000
END:DAYLIGHT
BEGIN:STANDARD
TZOFFSETFROM:+0200
TZOFFSETTO:+0100
TZNAME:CET
DTSTART:20231029T010000
END:STANDARD
END:VTIMEZONE
BEGIN:VEVENT
DTSTART;TZID=Europe/Berlin:20230118T200000
DTEND;TZID=Europe/Berlin:20230118T221000
DTSTAMP:20260422T220606
CREATED:20210614T163030Z
LAST-MODIFIED:20210614T163030Z
UID:4259-1674072000-1674079800@neuesglobetheater.de
SUMMARY:Figaro | Hameln
DESCRIPTION:
URL:https://neuesglobetheater.de/termin/230118-figaro-hameln/
LOCATION:Theater Hameln\, Rathausplatz 5\, Hameln\, 31785\, Deutschland
END:VEVENT
BEGIN:VEVENT
DTSTART;TZID=Europe/Berlin:20230125T160000
DTEND;TZID=Europe/Berlin:20230125T170000
DTSTAMP:20260422T220606
CREATED:20220502T120235Z
LAST-MODIFIED:20240310T181106Z
UID:5244-1674662400-1674666000@neuesglobetheater.de
SUMMARY:Max und Moritz | Arnsberg
DESCRIPTION:
URL:https://neuesglobetheater.de/termin/230125-max-und-moritz-arnsberg/
LOCATION:Sauerland-Theater Arnsberg\, Feauxweg 9\, Arnsberg\, 59821\, Deutschland
END:VEVENT
BEGIN:VEVENT
DTSTART;TZID=Europe/Berlin:20230127T200000
DTEND;TZID=Europe/Berlin:20230127T213000
DTSTAMP:20260422T220606
CREATED:20220218T084222Z
LAST-MODIFIED:20220218T084222Z
UID:4996-1674849600-1674855000@neuesglobetheater.de
SUMMARY:Ein deutsches Leben | Lippstadt
DESCRIPTION:
URL:https://neuesglobetheater.de/termin/230127-ein-deutsches-leben-lippstadt/
LOCATION:Stadttheater Lippstadt\, Cappeltor 3\, Lippstadt\, 59555\, Deutschland
END:VEVENT
BEGIN:VEVENT
DTSTART;TZID=Europe/Berlin:20230128T200000
DTEND;TZID=Europe/Berlin:20230128T213000
DTSTAMP:20260422T220606
CREATED:20220218T084302Z
LAST-MODIFIED:20220402T135909Z
UID:4998-1674936000-1674941400@neuesglobetheater.de
SUMMARY:Ein deutsche Leben | Pirmasens
DESCRIPTION:
URL:https://neuesglobetheater.de/termin/230128/
LOCATION:Festhalle Pirmasens\, Volksgartenstraße 12\, Pirmasens\, 66953\, Deutschland
END:VEVENT
END:VCALENDAR