BEGIN:VCALENDAR
VERSION:2.0
PRODID:-//Neues Globe Theater - ECPv6.8.3//NONSGML v1.0//EN
CALSCALE:GREGORIAN
METHOD:PUBLISH
X-WR-CALNAME:Neues Globe Theater
X-ORIGINAL-URL:https://neuesglobetheater.de
X-WR-CALDESC:Veranstaltungen für Neues Globe Theater
REFRESH-INTERVAL;VALUE=DURATION:PT1H
X-Robots-Tag:noindex
X-PUBLISHED-TTL:PT1H
BEGIN:VTIMEZONE
TZID:Europe/Berlin
BEGIN:DAYLIGHT
TZOFFSETFROM:+0100
TZOFFSETTO:+0200
TZNAME:CEST
DTSTART:20220327T010000
END:DAYLIGHT
BEGIN:STANDARD
TZOFFSETFROM:+0200
TZOFFSETTO:+0100
TZNAME:CET
DTSTART:20221030T010000
END:STANDARD
END:VTIMEZONE
BEGIN:VEVENT
DTSTART;TZID=Europe/Berlin:20221106T160000
DTEND;TZID=Europe/Berlin:20221106T170000
DTSTAMP:20260423T005704
CREATED:20220819T152952Z
LAST-MODIFIED:20230607T101355Z
UID:5619-1667750400-1667754000@neuesglobetheater.de
SUMMARY:Max und Moritz (M&M) - Da ist noch was im Busch! | Schöneiche
DESCRIPTION:Tickets über  http://www.kulturgiesserei.de/\, zu den Bürozeiten direkt in der Kulturgießerei und an der Abendkasse (10€\, erm. 5€)
URL:https://neuesglobetheater.de/termin/221106-max-und-moritz-schoeneiche/
LOCATION:Kulturgießerei Schöneiche\, An der Reihe 5\, Schöneiche bei Berlin\, Brandenburg\, 15566
END:VEVENT
BEGIN:VEVENT
DTSTART;TZID=Europe/Berlin:20221110T200000
DTEND;TZID=Europe/Berlin:20221110T223000
DTSTAMP:20260423T005704
CREATED:20211217T180741Z
LAST-MODIFIED:20220928T163129Z
UID:4828-1668110400-1668119400@neuesglobetheater.de
SUMMARY:Eduard | UfaFabrik Berlin
DESCRIPTION:Tickets über >> www.reservix.de und an der Abendkasse.
URL:https://neuesglobetheater.de/termin/221110-eduard-ufafabrik-berlin/
LOCATION:ufaFabrik Berlin im Varieté Salon\, Viktoriastraße 10-18\, Berlin\, 12105\, Deutschland
END:VEVENT
BEGIN:VEVENT
DTSTART;TZID=Europe/Berlin:20221112T200000
DTEND;TZID=Europe/Berlin:20221112T213000
DTSTAMP:20260423T005704
CREATED:20220901T061628Z
LAST-MODIFIED:20220901T061628Z
UID:5666-1668283200-1668288600@neuesglobetheater.de
SUMMARY:Sturm | Eutin
DESCRIPTION:
URL:https://neuesglobetheater.de/termin/221112-sturm-eutin/
LOCATION:Binchen Filmkunst Theater Eutin\, Albert Mahlstedt-Str. 2a\, Eutin\, 23701\, Deutschland
END:VEVENT
BEGIN:VEVENT
DTSTART;TZID=Europe/Berlin:20221115T200000
DTEND;TZID=Europe/Berlin:20221115T213000
DTSTAMP:20260423T005704
CREATED:20220207T085402Z
LAST-MODIFIED:20241220T080855Z
UID:4930-1668542400-1668547800@neuesglobetheater.de
SUMMARY:Sturm | Landsberg
DESCRIPTION:
URL:https://neuesglobetheater.de/termin/221115-16-sturm-landsberg/
LOCATION:Stadttheater Landsberg\, Schlossergasse 381 a\, Landsberg am Lech\, 86899\, Deutschland
END:VEVENT
BEGIN:VEVENT
DTSTART;TZID=Europe/Berlin:20221119T193000
DTEND;TZID=Europe/Berlin:20221119T210000
DTSTAMP:20260423T005704
CREATED:20220506T105516Z
LAST-MODIFIED:20220506T105641Z
UID:5253-1668886200-1668891600@neuesglobetheater.de
SUMMARY:Sturm | Stadttheater Fürth
DESCRIPTION:
URL:https://neuesglobetheater.de/termin/221119-sturm-stadttheater-fuerth/
LOCATION:Stadttheater Fürth\, Königstr. 116\, Fürth\, 90762\, Deutschland
END:VEVENT
BEGIN:VEVENT
DTSTART;TZID=Europe/Berlin:20221120T193000
DTEND;TZID=Europe/Berlin:20221120T210000
DTSTAMP:20260423T005704
CREATED:20220506T105819Z
LAST-MODIFIED:20220506T105819Z
UID:5257-1668972600-1668978000@neuesglobetheater.de
SUMMARY:Sturm | Stadttheater Fürth
DESCRIPTION:
URL:https://neuesglobetheater.de/termin/221120-sturm-stadttheater-fuerth/
LOCATION:Stadttheater Fürth\, Königstr. 116\, Fürth\, 90762\, Deutschland
END:VEVENT
BEGIN:VEVENT
DTSTART;TZID=Europe/Berlin:20221123T200000
DTEND;TZID=Europe/Berlin:20221123T214000
DTSTAMP:20260423T005704
CREATED:20211110T112234Z
LAST-MODIFIED:20220712T103224Z
UID:4720-1669233600-1669239600@neuesglobetheater.de
SUMMARY:Don Quijote | Burghausen
DESCRIPTION:
URL:https://neuesglobetheater.de/termin/221123-don-quijote-burghausen/
LOCATION:Stadtsaal Burghausen\, Stadtplatz 108\, Burghausen\, 84489\, Deutschland
END:VEVENT
END:VCALENDAR