BEGIN:VCALENDAR
VERSION:2.0
PRODID:-//Neues Globe Theater - ECPv6.8.3//NONSGML v1.0//EN
CALSCALE:GREGORIAN
METHOD:PUBLISH
X-ORIGINAL-URL:https://neuesglobetheater.de
X-WR-CALDESC:Veranstaltungen für Neues Globe Theater
REFRESH-INTERVAL;VALUE=DURATION:PT1H
X-Robots-Tag:noindex
X-PUBLISHED-TTL:PT1H
BEGIN:VTIMEZONE
TZID:Europe/Berlin
BEGIN:DAYLIGHT
TZOFFSETFROM:+0100
TZOFFSETTO:+0200
TZNAME:CEST
DTSTART:20220327T010000
END:DAYLIGHT
BEGIN:STANDARD
TZOFFSETFROM:+0200
TZOFFSETTO:+0100
TZNAME:CET
DTSTART:20221030T010000
END:STANDARD
END:VTIMEZONE
BEGIN:VEVENT
DTSTART;TZID=Europe/Berlin:20221012T103000
DTEND;TZID=Europe/Berlin:20221012T113000
DTSTAMP:20260424T120237
CREATED:20210820T121641Z
LAST-MODIFIED:20220822T124331Z
UID:4555-1665570600-1665574200@neuesglobetheater.de
SUMMARY:Max und Moritz | Hameln
DESCRIPTION:
URL:https://neuesglobetheater.de/termin/221012-max-und-moritz-hameln/
LOCATION:Theater Hameln\, Rathausplatz 5\, Hameln\, 31785\, Deutschland
END:VEVENT
BEGIN:VEVENT
DTSTART;TZID=Europe/Berlin:20221014T200000
DTEND;TZID=Europe/Berlin:20221014T224000
DTSTAMP:20260424T120237
CREATED:20220211T110330Z
LAST-MODIFIED:20220211T110330Z
UID:4936-1665777600-1665787200@neuesglobetheater.de
SUMMARY:Scapin | Planegg
DESCRIPTION:
URL:https://neuesglobetheater.de/termin/221014-scapin-planegg/
LOCATION:Kupferhaus Planegg\, Feodor-Lynen-Str. 5\, Planegg\, Bayern\, 82152\, Deutschland
END:VEVENT
BEGIN:VEVENT
DTSTART;TZID=Europe/Berlin:20221015T200000
DTEND;TZID=Europe/Berlin:20221015T223000
DTSTAMP:20260424T120237
CREATED:20211201T112123Z
LAST-MODIFIED:20211201T112123Z
UID:4753-1665864000-1665873000@neuesglobetheater.de
SUMMARY:Scapin | Kronach
DESCRIPTION:
URL:https://neuesglobetheater.de/termin/221015-scapin-kronach/
LOCATION:Kreiskulturraum Kronach\, Siechenangerstraße 13\, Kronach\, 96317
END:VEVENT
BEGIN:VEVENT
DTSTART;TZID=Europe/Berlin:20221016T200000
DTEND;TZID=Europe/Berlin:20221016T223000
DTSTAMP:20260424T120237
CREATED:20211201T112237Z
LAST-MODIFIED:20220924T072200Z
UID:4756-1665950400-1665959400@neuesglobetheater.de
SUMMARY:Scapin | Kronach
DESCRIPTION:
URL:https://neuesglobetheater.de/termin/221016-scapin-kronach/
LOCATION:Kreiskulturraum Kronach\, Siechenangerstraße 13\, Kronach\, 96317
END:VEVENT
BEGIN:VEVENT
DTSTART;TZID=Europe/Berlin:20221018T110000
DTEND;TZID=Europe/Berlin:20221018T120000
DTSTAMP:20260424T120237
CREATED:20220218T100906Z
LAST-MODIFIED:20220627T144242Z
UID:5001-1666090800-1666094400@neuesglobetheater.de
SUMMARY:Max und Moritz | Niedergörsdorf
DESCRIPTION:
URL:https://neuesglobetheater.de/termin/221018-max-und-moritz-niedergoersdorf/
LOCATION:Kulturzentrum DAS HAUS – Gemeinde Niedergörsdorf OT Altes Lager\, Kastanienallee 21\, Niedergörsdorf\, Brandenburg\, 14913\, Deutschland
END:VEVENT
BEGIN:VEVENT
DTSTART;TZID=Europe/Berlin:20221021T193000
DTEND;TZID=Europe/Berlin:20221021T204000
DTSTAMP:20260424T120237
CREATED:20211201T112946Z
LAST-MODIFIED:20221021T141721Z
UID:4759-1666380600-1666384800@neuesglobetheater.de
SUMMARY:Ein deutsches Leben | Amberg
DESCRIPTION:
URL:https://neuesglobetheater.de/termin/221021-ein-deutsches-leben-amberg/
LOCATION:Stadttheater Amberg\, Schrannenplatz 8\, Amberg\, 92224
END:VEVENT
END:VCALENDAR