BEGIN:VCALENDAR
VERSION:2.0
PRODID:-//Neues Globe Theater - ECPv6.8.3//NONSGML v1.0//EN
CALSCALE:GREGORIAN
METHOD:PUBLISH
X-ORIGINAL-URL:https://neuesglobetheater.de
X-WR-CALDESC:Veranstaltungen für Neues Globe Theater
REFRESH-INTERVAL;VALUE=DURATION:PT1H
X-Robots-Tag:noindex
X-PUBLISHED-TTL:PT1H
BEGIN:VTIMEZONE
TZID:Europe/Berlin
BEGIN:DAYLIGHT
TZOFFSETFROM:+0100
TZOFFSETTO:+0200
TZNAME:CEST
DTSTART:20220327T010000
END:DAYLIGHT
BEGIN:STANDARD
TZOFFSETFROM:+0200
TZOFFSETTO:+0100
TZNAME:CET
DTSTART:20221030T010000
END:STANDARD
END:VTIMEZONE
BEGIN:VEVENT
DTSTART;TZID=Europe/Berlin:20220904T160000
DTEND;TZID=Europe/Berlin:20220904T173000
DTSTAMP:20260424T162507
CREATED:20220131T113520Z
LAST-MODIFIED:20220131T113520Z
UID:4915-1662307200-1662312600@neuesglobetheater.de
SUMMARY:Sturm | Niedergörsdorf
DESCRIPTION:
URL:https://neuesglobetheater.de/termin/220904-sturm-niedergoersdorf/
LOCATION:Kulturzentrum DAS HAUS – Gemeinde Niedergörsdorf OT Altes Lager\, Kastanienallee 21\, Niedergörsdorf\, Brandenburg\, 14913\, Deutschland
END:VEVENT
BEGIN:VEVENT
DTSTART;TZID=Europe/Berlin:20220906T200000
DTEND;TZID=Europe/Berlin:20220906T220000
DTSTAMP:20260424T162507
CREATED:20220905T162039Z
LAST-MODIFIED:20220905T162039Z
UID:5673-1662494400-1662501600@neuesglobetheater.de
SUMMARY:Don Quijote| Theater am Insulaner - Berlin
DESCRIPTION:
URL:https://neuesglobetheater.de/termin/220906-don-quijote-theater-am-insulaner-berlin/
LOCATION:Theater am Insulaner\, Munsterdamm 80\, Eingang direkt neben dem Schwimmbad\, Berlin\, 12169\, Deutschland
END:VEVENT
BEGIN:VEVENT
DTSTART;TZID=Europe/Berlin:20220907T200000
DTEND;TZID=Europe/Berlin:20220907T220000
DTSTAMP:20260424T162507
CREATED:20220905T162220Z
LAST-MODIFIED:20220905T162220Z
UID:5677-1662580800-1662588000@neuesglobetheater.de
SUMMARY:Don Quijote | Theater am Insulaner - Berlin
DESCRIPTION:
URL:https://neuesglobetheater.de/termin/220907-don-quijote-theater-am-insulaner-berlin/
LOCATION:Theater am Insulaner\, Munsterdamm 80\, Eingang direkt neben dem Schwimmbad\, Berlin\, 12169\, Deutschland
END:VEVENT
BEGIN:VEVENT
DTSTART;TZID=Europe/Berlin:20220908T200000
DTEND;TZID=Europe/Berlin:20220908T220000
DTSTAMP:20260424T162507
CREATED:20220905T162331Z
LAST-MODIFIED:20220905T162331Z
UID:5679-1662667200-1662674400@neuesglobetheater.de
SUMMARY:Don Quijote | Theater am Insulaner - Berlin
DESCRIPTION:
URL:https://neuesglobetheater.de/termin/220908-don-quijote-theater-am-insulaner-berlin/
LOCATION:Theater am Insulaner\, Munsterdamm 80\, Eingang direkt neben dem Schwimmbad\, Berlin\, 12169\, Deutschland
END:VEVENT
BEGIN:VEVENT
DTSTART;TZID=Europe/Berlin:20220915T200000
DTEND;TZID=Europe/Berlin:20220915T220000
DTSTAMP:20260424T162507
CREATED:20220131T113324Z
LAST-MODIFIED:20220131T113324Z
UID:4913-1663272000-1663279200@neuesglobetheater.de
SUMMARY:Räuber | Lennestadt
DESCRIPTION:
URL:https://neuesglobetheater.de/termin/220915-raeuber-lennestadt/
LOCATION:Theater der Stadt Lennestadt\, Anne-Frank-Platz 1\, Lennestadt-Meggen\, 57368\, Deutschland
END:VEVENT
BEGIN:VEVENT
DTSTART;TZID=Europe/Berlin:20220919T200000
DTEND;TZID=Europe/Berlin:20220919T223000
DTSTAMP:20260424T162507
CREATED:20210930T141133Z
LAST-MODIFIED:20220819T104015Z
UID:4649-1663617600-1663626600@neuesglobetheater.de
SUMMARY:Scapin | Götzis
DESCRIPTION:
URL:https://neuesglobetheater.de/termin/220919-scapin-goetzis/
LOCATION:Kulturbühne AMBACH Götzis\, Am Bach 10\, Götzis\, Vorarlberg\, 6840\, Österreich
END:VEVENT
BEGIN:VEVENT
DTSTART;TZID=Europe/Berlin:20220922T193000
DTEND;TZID=Europe/Berlin:20220922T221000
DTSTAMP:20260424T162507
CREATED:20211209T071537Z
LAST-MODIFIED:20220808T193349Z
UID:4819-1663875000-1663884600@neuesglobetheater.de
SUMMARY:Scapin | Remscheid
DESCRIPTION:
URL:https://neuesglobetheater.de/termin/220922-scapin-remscheid/
LOCATION:Teo-Otto-Theater Remscheid\, Konrad-Adenauer-Straße 31-33\, Remscheid\, 42853\, Deutschland
END:VEVENT
BEGIN:VEVENT
DTSTART;TZID=Europe/Berlin:20220923T200000
DTEND;TZID=Europe/Berlin:20220923T224000
DTSTAMP:20260424T162507
CREATED:20210609T142454Z
LAST-MODIFIED:20220924T071911Z
UID:4238-1663963200-1663972800@neuesglobetheater.de
SUMMARY:Scapin | Ratingen
DESCRIPTION:
URL:https://neuesglobetheater.de/termin/220923-scapin-ratingen/
LOCATION:Stadttheater Ratingen\, Europaring 9\, Ratingen\, 40878
END:VEVENT
BEGIN:VEVENT
DTSTART;TZID=Europe/Berlin:20220924T193000
DTEND;TZID=Europe/Berlin:20220924T220000
DTSTAMP:20260424T162507
CREATED:20211208T170719Z
LAST-MODIFIED:20220924T071945Z
UID:4815-1664047800-1664056800@neuesglobetheater.de
SUMMARY:Scapin | Staßfurt
DESCRIPTION:
URL:https://neuesglobetheater.de/termin/220924-scapin-stassfurt/
LOCATION:Salzlandtheater Staßfurt\, Tränental 6\, Staßfurt\, Sachsen-Anhalt\, 39418\, Deutschland
END:VEVENT
BEGIN:VEVENT
DTSTART;TZID=Europe/Berlin:20220929T200000
DTEND;TZID=Europe/Berlin:20220929T224000
DTSTAMP:20260424T162507
CREATED:20211130T103422Z
LAST-MODIFIED:20211130T103422Z
UID:4746-1664481600-1664491200@neuesglobetheater.de
SUMMARY:Scapin | Kaufbeuren
DESCRIPTION:
URL:https://neuesglobetheater.de/termin/220929-scapin-kaufbeuren/
LOCATION:Stadttheater Kaufbeuren\, Rosental 8\, Kaufbeuren\, 87600\, Deutschland
END:VEVENT
END:VCALENDAR