BEGIN:VCALENDAR
VERSION:2.0
PRODID:-//Neues Globe Theater - ECPv6.8.3//NONSGML v1.0//EN
CALSCALE:GREGORIAN
METHOD:PUBLISH
X-ORIGINAL-URL:https://neuesglobetheater.de
X-WR-CALDESC:Veranstaltungen für Neues Globe Theater
REFRESH-INTERVAL;VALUE=DURATION:PT1H
X-Robots-Tag:noindex
X-PUBLISHED-TTL:PT1H
BEGIN:VTIMEZONE
TZID:Europe/Berlin
BEGIN:DAYLIGHT
TZOFFSETFROM:+0100
TZOFFSETTO:+0200
TZNAME:CEST
DTSTART:20250330T010000
END:DAYLIGHT
BEGIN:STANDARD
TZOFFSETFROM:+0200
TZOFFSETTO:+0100
TZNAME:CET
DTSTART:20251026T010000
END:STANDARD
END:VTIMEZONE
BEGIN:VEVENT
DTSTART;TZID=Europe/Berlin:20250403T200000
DTEND;TZID=Europe/Berlin:20250403T224500
DTSTAMP:20260423T112102
CREATED:20231023T105944Z
LAST-MODIFIED:20250314T221103Z
UID:6769-1743710400-1743720300@neuesglobetheater.de
SUMMARY:Mephisto | Tuttlingen
DESCRIPTION:
URL:https://neuesglobetheater.de/termin/mephisto-tuttlingen/
LOCATION:Stadthalle Tuttlingen\, Königstraße 39\, Tuttlingen\, 78532\, Deutschland
END:VEVENT
END:VCALENDAR