BEGIN:VCALENDAR
VERSION:2.0
PRODID:-//Neues Globe Theater - ECPv6.8.3//NONSGML v1.0//EN
CALSCALE:GREGORIAN
METHOD:PUBLISH
X-ORIGINAL-URL:https://neuesglobetheater.de
X-WR-CALDESC:Veranstaltungen für Neues Globe Theater
REFRESH-INTERVAL;VALUE=DURATION:PT1H
X-Robots-Tag:noindex
X-PUBLISHED-TTL:PT1H
BEGIN:VTIMEZONE
TZID:Europe/Berlin
BEGIN:DAYLIGHT
TZOFFSETFROM:+0100
TZOFFSETTO:+0200
TZNAME:CEST
DTSTART:20250330T010000
END:DAYLIGHT
BEGIN:STANDARD
TZOFFSETFROM:+0200
TZOFFSETTO:+0100
TZNAME:CET
DTSTART:20251026T010000
END:STANDARD
END:VTIMEZONE
BEGIN:VEVENT
DTSTART;TZID=Europe/Berlin:20250215T193000
DTEND;TZID=Europe/Berlin:20250215T220000
DTSTAMP:20260423T082155
CREATED:20240304T110637Z
LAST-MODIFIED:20240610T100329Z
UID:6979-1739647800-1739656800@neuesglobetheater.de
SUMMARY:Mephisto | Espelkamp
DESCRIPTION:
URL:https://neuesglobetheater.de/termin/die-raeuber-espelkamp/
LOCATION:Theater Espelkamp\, Trakehner Str. 1\, Espelkamp\, 32339
END:VEVENT
END:VCALENDAR