BEGIN:VCALENDAR
VERSION:2.0
PRODID:-//Neues Globe Theater - ECPv6.8.3//NONSGML v1.0//EN
CALSCALE:GREGORIAN
METHOD:PUBLISH
X-ORIGINAL-URL:https://neuesglobetheater.de
X-WR-CALDESC:Veranstaltungen für Neues Globe Theater
REFRESH-INTERVAL;VALUE=DURATION:PT1H
X-Robots-Tag:noindex
X-PUBLISHED-TTL:PT1H
BEGIN:VTIMEZONE
TZID:Europe/Berlin
BEGIN:DAYLIGHT
TZOFFSETFROM:+0100
TZOFFSETTO:+0200
TZNAME:CEST
DTSTART:20250330T010000
END:DAYLIGHT
BEGIN:STANDARD
TZOFFSETFROM:+0200
TZOFFSETTO:+0100
TZNAME:CET
DTSTART:20251026T010000
END:STANDARD
END:VTIMEZONE
BEGIN:VEVENT
DTSTART;TZID=Europe/Berlin:20250122T200000
DTEND;TZID=Europe/Berlin:20250122T220000
DTSTAMP:20260423T070108
CREATED:20240124T120626Z
LAST-MODIFIED:20240124T120626Z
UID:6916-1737576000-1737583200@neuesglobetheater.de
SUMMARY:Diener zweier Herren | Peine
DESCRIPTION:
URL:https://neuesglobetheater.de/termin/diener-zweier-herren-peine/
LOCATION:Stadttheater Peiner Festsäle\, Friedrich-Ebert-Platz 12\, Peine\, 31226
END:VEVENT
END:VCALENDAR