BEGIN:VCALENDAR
VERSION:2.0
PRODID:-//Neues Globe Theater - ECPv6.8.3//NONSGML v1.0//EN
CALSCALE:GREGORIAN
METHOD:PUBLISH
X-WR-CALNAME:Neues Globe Theater
X-ORIGINAL-URL:https://neuesglobetheater.de
X-WR-CALDESC:Veranstaltungen für Neues Globe Theater
REFRESH-INTERVAL;VALUE=DURATION:PT1H
X-Robots-Tag:noindex
X-PUBLISHED-TTL:PT1H
BEGIN:VTIMEZONE
TZID:Europe/Berlin
BEGIN:DAYLIGHT
TZOFFSETFROM:+0100
TZOFFSETTO:+0200
TZNAME:CEST
DTSTART:20240331T010000
END:DAYLIGHT
BEGIN:STANDARD
TZOFFSETFROM:+0200
TZOFFSETTO:+0100
TZNAME:CET
DTSTART:20241027T010000
END:STANDARD
END:VTIMEZONE
BEGIN:VEVENT
DTSTART;TZID=Europe/Berlin:20241114T200000
DTEND;TZID=Europe/Berlin:20241114T224500
DTSTAMP:20260423T054220
CREATED:20220710T091352Z
LAST-MODIFIED:20231124T121238Z
UID:5417-1731614400-1731624300@neuesglobetheater.de
SUMMARY:Mephisto | Wolfenbüttel
DESCRIPTION:
URL:https://neuesglobetheater.de/termin/231125-mephisto-wolfenbuettel/
LOCATION:Lessingtheater Wolfenbüttel\, Harztorwall 16\, Wolfenbüttel\, 38300
END:VEVENT
END:VCALENDAR