BEGIN:VCALENDAR
VERSION:2.0
PRODID:-//Neues Globe Theater - ECPv6.8.3//NONSGML v1.0//EN
CALSCALE:GREGORIAN
METHOD:PUBLISH
X-WR-CALNAME:Neues Globe Theater
X-ORIGINAL-URL:https://neuesglobetheater.de
X-WR-CALDESC:Veranstaltungen für Neues Globe Theater
REFRESH-INTERVAL;VALUE=DURATION:PT1H
X-Robots-Tag:noindex
X-PUBLISHED-TTL:PT1H
BEGIN:VTIMEZONE
TZID:Europe/Berlin
BEGIN:DAYLIGHT
TZOFFSETFROM:+0100
TZOFFSETTO:+0200
TZNAME:CEST
DTSTART:20240331T010000
END:DAYLIGHT
BEGIN:STANDARD
TZOFFSETFROM:+0200
TZOFFSETTO:+0100
TZNAME:CET
DTSTART:20241027T010000
END:STANDARD
END:VTIMEZONE
BEGIN:VEVENT
DTSTART;TZID=Europe/Berlin:20241024T200000
DTEND;TZID=Europe/Berlin:20241024T224000
DTSTAMP:20260423T025418
CREATED:20240530T122014Z
LAST-MODIFIED:20240530T122021Z
UID:7247-1729800000-1729809600@neuesglobetheater.de
SUMMARY:Mephisto | Villingen-Schwenningen
DESCRIPTION:
URL:https://neuesglobetheater.de/termin/mephisto-villingen-schwenningen/
LOCATION:Theater am Ring (Großer Saal)\, Villingen-Schwenningen\, Romäusring 2\, Villingen-Schwenningen\, 78050\, Deutschland
END:VEVENT
END:VCALENDAR