BEGIN:VCALENDAR
VERSION:2.0
PRODID:-//Neues Globe Theater - ECPv6.8.3//NONSGML v1.0//EN
CALSCALE:GREGORIAN
METHOD:PUBLISH
X-ORIGINAL-URL:https://neuesglobetheater.de
X-WR-CALDESC:Veranstaltungen für Neues Globe Theater
REFRESH-INTERVAL;VALUE=DURATION:PT1H
X-Robots-Tag:noindex
X-PUBLISHED-TTL:PT1H
BEGIN:VTIMEZONE
TZID:Europe/Berlin
BEGIN:DAYLIGHT
TZOFFSETFROM:+0100
TZOFFSETTO:+0200
TZNAME:CEST
DTSTART:20240331T010000
END:DAYLIGHT
BEGIN:STANDARD
TZOFFSETFROM:+0200
TZOFFSETTO:+0100
TZNAME:CET
DTSTART:20241027T010000
END:STANDARD
END:VTIMEZONE
BEGIN:VEVENT
DTSTART;TZID=Europe/Berlin:20241022T200000
DTEND;TZID=Europe/Berlin:20241022T224500
DTSTAMP:20260423T025613
CREATED:20231115T095231Z
LAST-MODIFIED:20240619T124838Z
UID:6796-1729627200-1729637100@neuesglobetheater.de
SUMMARY:Mephisto | Lohne
DESCRIPTION:
URL:https://neuesglobetheater.de/termin/mephisto-lohne/
LOCATION:Theaterring Lohne – Aula des Gymnasiums Lohne\, An der Kirchenziegelei 12\, Lohne\, 49393
END:VEVENT
END:VCALENDAR