BEGIN:VCALENDAR
VERSION:2.0
PRODID:-//Neues Globe Theater - ECPv6.8.3//NONSGML v1.0//EN
CALSCALE:GREGORIAN
METHOD:PUBLISH
X-ORIGINAL-URL:https://neuesglobetheater.de
X-WR-CALDESC:Veranstaltungen für Neues Globe Theater
REFRESH-INTERVAL;VALUE=DURATION:PT1H
X-Robots-Tag:noindex
X-PUBLISHED-TTL:PT1H
BEGIN:VTIMEZONE
TZID:Europe/Berlin
BEGIN:DAYLIGHT
TZOFFSETFROM:+0100
TZOFFSETTO:+0200
TZNAME:CEST
DTSTART:20240331T010000
END:DAYLIGHT
BEGIN:STANDARD
TZOFFSETFROM:+0200
TZOFFSETTO:+0100
TZNAME:CET
DTSTART:20241027T010000
END:STANDARD
END:VTIMEZONE
BEGIN:VEVENT
DTSTART;TZID=Europe/Berlin:20241001T100000
DTEND;TZID=Europe/Berlin:20241001T110000
DTSTAMP:20260423T024527
CREATED:20231110T123001Z
LAST-MODIFIED:20231207T092244Z
UID:6789-1727776800-1727780400@neuesglobetheater.de
SUMMARY:Max und Moritz (M&M) - Da ist noch was im Busch! | Minden
DESCRIPTION:
URL:https://neuesglobetheater.de/termin/max-und-moritz-mm-da-ist-noch-was-im-busch-minden/
LOCATION:Stadttheater Minden\, Tonhallenstraße 3\, Minden\, 32423\, Deutschland
END:VEVENT
BEGIN:VEVENT
DTSTART;TZID=Europe/Berlin:20241001T140000
DTEND;TZID=Europe/Berlin:20241001T150000
DTSTAMP:20260423T024527
CREATED:20231207T092103Z
LAST-MODIFIED:20231207T092103Z
UID:6839-1727791200-1727794800@neuesglobetheater.de
SUMMARY:Max und Moritz (M&M) - Da ist noch was im Busch! | Minden
DESCRIPTION:
URL:https://neuesglobetheater.de/termin/max-und-moritz-mm-da-ist-noch-was-im-busch-minden-2/
LOCATION:Stadttheater Minden\, Tonhallenstraße 3\, Minden\, 32423\, Deutschland
END:VEVENT
BEGIN:VEVENT
DTSTART;TZID=Europe/Berlin:20241001T160000
DTEND;TZID=Europe/Berlin:20241001T170000
DTSTAMP:20260423T024527
CREATED:20231207T092142Z
LAST-MODIFIED:20231207T092142Z
UID:6841-1727798400-1727802000@neuesglobetheater.de
SUMMARY:Max und Moritz (M&M) - Da ist noch was im Busch! | Minden
DESCRIPTION:
URL:https://neuesglobetheater.de/termin/max-und-moritz-mm-da-ist-noch-was-im-busch-minden-3/
LOCATION:Stadttheater Minden\, Tonhallenstraße 3\, Minden\, 32423\, Deutschland
END:VEVENT
END:VCALENDAR