BEGIN:VCALENDAR
VERSION:2.0
PRODID:-//Neues Globe Theater - ECPv6.8.3//NONSGML v1.0//EN
CALSCALE:GREGORIAN
METHOD:PUBLISH
X-ORIGINAL-URL:https://neuesglobetheater.de
X-WR-CALDESC:Veranstaltungen für Neues Globe Theater
REFRESH-INTERVAL;VALUE=DURATION:PT1H
X-Robots-Tag:noindex
X-PUBLISHED-TTL:PT1H
BEGIN:VTIMEZONE
TZID:Europe/Berlin
BEGIN:DAYLIGHT
TZOFFSETFROM:+0100
TZOFFSETTO:+0200
TZNAME:CEST
DTSTART:20240331T010000
END:DAYLIGHT
BEGIN:STANDARD
TZOFFSETFROM:+0200
TZOFFSETTO:+0100
TZNAME:CET
DTSTART:20241027T010000
END:STANDARD
END:VTIMEZONE
BEGIN:VEVENT
DTSTART;TZID=Europe/Berlin:20240929T160000
DTEND;TZID=Europe/Berlin:20240929T170000
DTSTAMP:20260423T012610
CREATED:20231110T122703Z
LAST-MODIFIED:20240809T122028Z
UID:6784-1727625600-1727629200@neuesglobetheater.de
SUMMARY:Max und Moritz (M&M) - Da ist noch was im Busch! | Hockenheim
DESCRIPTION:Tickets:\ntickets@stadthalle-hockenheim.de
URL:https://neuesglobetheater.de/termin/max-und-moritz-mm-da-ist-noch-was-im-busch-hockenheim/
LOCATION:Stadthalle Hockenheim\, Rathausstraße 3\, Hockenheim\, 68766
END:VEVENT
END:VCALENDAR