BEGIN:VCALENDAR
VERSION:2.0
PRODID:-//Neues Globe Theater - ECPv6.8.3//NONSGML v1.0//EN
CALSCALE:GREGORIAN
METHOD:PUBLISH
X-ORIGINAL-URL:https://neuesglobetheater.de
X-WR-CALDESC:Veranstaltungen für Neues Globe Theater
REFRESH-INTERVAL;VALUE=DURATION:PT1H
X-Robots-Tag:noindex
X-PUBLISHED-TTL:PT1H
BEGIN:VTIMEZONE
TZID:Europe/Berlin
BEGIN:DAYLIGHT
TZOFFSETFROM:+0100
TZOFFSETTO:+0200
TZNAME:CEST
DTSTART:20240331T010000
END:DAYLIGHT
BEGIN:STANDARD
TZOFFSETFROM:+0200
TZOFFSETTO:+0100
TZNAME:CET
DTSTART:20241027T010000
END:STANDARD
END:VTIMEZONE
BEGIN:VEVENT
DTSTART;TZID=Europe/Berlin:20240514T193000
DTEND;TZID=Europe/Berlin:20240514T210000
DTSTAMP:20260422T193255
CREATED:20231230T125501Z
LAST-MODIFIED:20240511T090056Z
UID:6872-1715715000-1715720400@neuesglobetheater.de
SUMMARY:Sturm | Shakespeare Festival Neuss
DESCRIPTION:
URL:https://neuesglobetheater.de/termin/sturm-shakespeare-festival-neuss/
LOCATION:Shakespeare Festival im Globe Neuss\, Hammer Landstraße 2\, Neuss\, 41460
END:VEVENT
END:VCALENDAR