BEGIN:VCALENDAR
VERSION:2.0
PRODID:-//Neues Globe Theater - ECPv6.8.3//NONSGML v1.0//EN
CALSCALE:GREGORIAN
METHOD:PUBLISH
X-WR-CALNAME:Neues Globe Theater
X-ORIGINAL-URL:https://neuesglobetheater.de
X-WR-CALDESC:Veranstaltungen für Neues Globe Theater
REFRESH-INTERVAL;VALUE=DURATION:PT1H
X-Robots-Tag:noindex
X-PUBLISHED-TTL:PT1H
BEGIN:VTIMEZONE
TZID:Europe/Berlin
BEGIN:DAYLIGHT
TZOFFSETFROM:+0100
TZOFFSETTO:+0200
TZNAME:CEST
DTSTART:20240331T010000
END:DAYLIGHT
BEGIN:STANDARD
TZOFFSETFROM:+0200
TZOFFSETTO:+0100
TZNAME:CET
DTSTART:20241027T010000
END:STANDARD
END:VTIMEZONE
BEGIN:VEVENT
DTSTART;TZID=Europe/Berlin:20240220T200000
DTEND;TZID=Europe/Berlin:20240220T211000
DTSTAMP:20260422T151003
CREATED:20230116T101613Z
LAST-MODIFIED:20230116T101613Z
UID:5961-1708459200-1708463400@neuesglobetheater.de
SUMMARY:Ein deutsches Leben | Nienburg
DESCRIPTION:
URL:https://neuesglobetheater.de/termin/240220-ein-deutsches-leben-nienburg/
LOCATION:Theater auf dem Hornwerk\, Nienburg\, Mühlentorsweg 2\, Nienburg\, 31582\, Deutschland
END:VEVENT
END:VCALENDAR