BEGIN:VCALENDAR
VERSION:2.0
PRODID:-//Neues Globe Theater - ECPv6.8.3//NONSGML v1.0//EN
CALSCALE:GREGORIAN
METHOD:PUBLISH
X-WR-CALNAME:Neues Globe Theater
X-ORIGINAL-URL:https://neuesglobetheater.de
X-WR-CALDESC:Veranstaltungen für Neues Globe Theater
REFRESH-INTERVAL;VALUE=DURATION:PT1H
X-Robots-Tag:noindex
X-PUBLISHED-TTL:PT1H
BEGIN:VTIMEZONE
TZID:Europe/Berlin
BEGIN:DAYLIGHT
TZOFFSETFROM:+0100
TZOFFSETTO:+0200
TZNAME:CEST
DTSTART:20240331T010000
END:DAYLIGHT
BEGIN:STANDARD
TZOFFSETFROM:+0200
TZOFFSETTO:+0100
TZNAME:CET
DTSTART:20241027T010000
END:STANDARD
END:VTIMEZONE
BEGIN:VEVENT
DTSTART;TZID=Europe/Berlin:20240202T200000
DTEND;TZID=Europe/Berlin:20240202T213000
DTSTAMP:20260422T135236
CREATED:20221115T143002Z
LAST-MODIFIED:20221115T143002Z
UID:5880-1706904000-1706909400@neuesglobetheater.de
SUMMARY:Sturm | Neuburg an der Donau
DESCRIPTION:
URL:https://neuesglobetheater.de/termin/240202-sturm-neuburg-an-der-donau/
LOCATION:Stadttheater Neuburg an der Donau\, Residenzstraße A 67\, Neuburg an der Donau\, 86633\, Deutschland
END:VEVENT
END:VCALENDAR