BEGIN:VCALENDAR
VERSION:2.0
PRODID:-//Neues Globe Theater - ECPv6.8.3//NONSGML v1.0//EN
CALSCALE:GREGORIAN
METHOD:PUBLISH
X-ORIGINAL-URL:https://neuesglobetheater.de
X-WR-CALDESC:Veranstaltungen für Neues Globe Theater
REFRESH-INTERVAL;VALUE=DURATION:PT1H
X-Robots-Tag:noindex
X-PUBLISHED-TTL:PT1H
BEGIN:VTIMEZONE
TZID:Europe/Berlin
BEGIN:DAYLIGHT
TZOFFSETFROM:+0100
TZOFFSETTO:+0200
TZNAME:CEST
DTSTART:20240331T010000
END:DAYLIGHT
BEGIN:STANDARD
TZOFFSETFROM:+0200
TZOFFSETTO:+0100
TZNAME:CET
DTSTART:20241027T010000
END:STANDARD
END:VTIMEZONE
BEGIN:VEVENT
DTSTART;TZID=Europe/Berlin:20240130T193000
DTEND;TZID=Europe/Berlin:20240130T221500
DTSTAMP:20260422T135358
CREATED:20220923T073030Z
LAST-MODIFIED:20231214T093138Z
UID:5691-1706643000-1706652900@neuesglobetheater.de
SUMMARY:Mephisto | Neustadt a.d. Weinstraße
DESCRIPTION:
URL:https://neuesglobetheater.de/termin/240130-mephisto-neustadt-a-d-weinstrasse/
LOCATION:Stadthalle Saalbau Neustadt\, Bahnhofstraße 1\, Neustadt an der Weinstraße\, 67434\, Deutschland
END:VEVENT
END:VCALENDAR