BEGIN:VCALENDAR
VERSION:2.0
PRODID:-//Neues Globe Theater - ECPv6.8.3//NONSGML v1.0//EN
CALSCALE:GREGORIAN
METHOD:PUBLISH
X-ORIGINAL-URL:https://neuesglobetheater.de
X-WR-CALDESC:Veranstaltungen für Neues Globe Theater
REFRESH-INTERVAL;VALUE=DURATION:PT1H
X-Robots-Tag:noindex
X-PUBLISHED-TTL:PT1H
BEGIN:VTIMEZONE
TZID:Europe/Berlin
BEGIN:DAYLIGHT
TZOFFSETFROM:+0100
TZOFFSETTO:+0200
TZNAME:CEST
DTSTART:20240331T010000
END:DAYLIGHT
BEGIN:STANDARD
TZOFFSETFROM:+0200
TZOFFSETTO:+0100
TZNAME:CET
DTSTART:20241027T010000
END:STANDARD
END:VTIMEZONE
BEGIN:VEVENT
DTSTART;TZID=Europe/Berlin:20240118T200000
DTEND;TZID=Europe/Berlin:20240118T223000
DTSTAMP:20260422T135425
CREATED:20230123T205545Z
LAST-MODIFIED:20230123T205545Z
UID:5991-1705608000-1705617000@neuesglobetheater.de
SUMMARY:Mephisto | Siegen
DESCRIPTION:
URL:https://neuesglobetheater.de/termin/240118-mephisto-siegen/
LOCATION:Apollo-Theater Siegen\, Morleystraße 1\, Siegen\, 57072\, Deutschland
END:VEVENT
END:VCALENDAR