BEGIN:VCALENDAR
VERSION:2.0
PRODID:-//Neues Globe Theater - ECPv6.8.3//NONSGML v1.0//EN
CALSCALE:GREGORIAN
METHOD:PUBLISH
X-ORIGINAL-URL:https://neuesglobetheater.de
X-WR-CALDESC:Veranstaltungen für Neues Globe Theater
REFRESH-INTERVAL;VALUE=DURATION:PT1H
X-Robots-Tag:noindex
X-PUBLISHED-TTL:PT1H
BEGIN:VTIMEZONE
TZID:Europe/Berlin
BEGIN:DAYLIGHT
TZOFFSETFROM:+0100
TZOFFSETTO:+0200
TZNAME:CEST
DTSTART:20230326T010000
END:DAYLIGHT
BEGIN:STANDARD
TZOFFSETFROM:+0200
TZOFFSETTO:+0100
TZNAME:CET
DTSTART:20231029T010000
END:STANDARD
END:VTIMEZONE
BEGIN:VEVENT
DTSTART;TZID=Europe/Berlin:20231212T200000
DTEND;TZID=Europe/Berlin:20231212T223000
DTSTAMP:20260422T133350
CREATED:20230120T130514Z
LAST-MODIFIED:20230623T073304Z
UID:5968-1702411200-1702420200@neuesglobetheater.de
SUMMARY:Mephisto | Ratingen
DESCRIPTION:
URL:https://neuesglobetheater.de/termin/231212-mephisto-ratingen/
LOCATION:Stadttheater Ratingen\, Europaring 9\, Ratingen\, 40878
END:VEVENT
END:VCALENDAR