BEGIN:VCALENDAR
VERSION:2.0
PRODID:-//Neues Globe Theater - ECPv6.8.3//NONSGML v1.0//EN
CALSCALE:GREGORIAN
METHOD:PUBLISH
X-ORIGINAL-URL:https://neuesglobetheater.de
X-WR-CALDESC:Veranstaltungen für Neues Globe Theater
REFRESH-INTERVAL;VALUE=DURATION:PT1H
X-Robots-Tag:noindex
X-PUBLISHED-TTL:PT1H
BEGIN:VTIMEZONE
TZID:Europe/Berlin
BEGIN:DAYLIGHT
TZOFFSETFROM:+0100
TZOFFSETTO:+0200
TZNAME:CEST
DTSTART:20230326T010000
END:DAYLIGHT
BEGIN:STANDARD
TZOFFSETFROM:+0200
TZOFFSETTO:+0100
TZNAME:CET
DTSTART:20231029T010000
END:STANDARD
END:VTIMEZONE
BEGIN:VEVENT
DTSTART;TZID=Europe/Berlin:20230618T190000
DTEND;TZID=Europe/Berlin:20230618T204500
DTSTAMP:20260422T174451
CREATED:20220106T100136Z
LAST-MODIFIED:20230607T100930Z
UID:4846-1687114800-1687121100@neuesglobetheater.de
SUMMARY:Don Quijote | Bad Elster
DESCRIPTION:
URL:https://neuesglobetheater.de/termin/don-quijote-bad-elster/
LOCATION:König Albert Theater Bad Elster\, Theaterplatz 1\, Bad Elster\, 08645\, Deutschland
END:VEVENT
END:VCALENDAR