BEGIN:VCALENDAR
VERSION:2.0
PRODID:-//Neues Globe Theater - ECPv6.8.3//NONSGML v1.0//EN
CALSCALE:GREGORIAN
METHOD:PUBLISH
X-WR-CALNAME:Neues Globe Theater
X-ORIGINAL-URL:https://neuesglobetheater.de
X-WR-CALDESC:Veranstaltungen für Neues Globe Theater
REFRESH-INTERVAL;VALUE=DURATION:PT1H
X-Robots-Tag:noindex
X-PUBLISHED-TTL:PT1H
BEGIN:VTIMEZONE
TZID:Europe/Berlin
BEGIN:DAYLIGHT
TZOFFSETFROM:+0100
TZOFFSETTO:+0200
TZNAME:CEST
DTSTART:20230326T010000
END:DAYLIGHT
BEGIN:STANDARD
TZOFFSETFROM:+0200
TZOFFSETTO:+0100
TZNAME:CET
DTSTART:20231029T010000
END:STANDARD
END:VTIMEZONE
BEGIN:VEVENT
DTSTART;VALUE=DATE:20230313
DTEND;VALUE=DATE:20230314
DTSTAMP:20260422T202518
CREATED:20220223T180544Z
LAST-MODIFIED:20220223T180544Z
UID:5012-1678665600-1678751999@neuesglobetheater.de
SUMMARY:Max und Moritz | Kindertheaterfestival Amberg
DESCRIPTION:
URL:https://neuesglobetheater.de/termin/230313-max-und-moritz-kindertheaterfestival-amberg/
LOCATION:Stadttheater Amberg\, Schrannenplatz 8\, Amberg\, 92224
END:VEVENT
END:VCALENDAR