BEGIN:VCALENDAR
VERSION:2.0
PRODID:-//Neues Globe Theater - ECPv6.8.3//NONSGML v1.0//EN
CALSCALE:GREGORIAN
METHOD:PUBLISH
X-ORIGINAL-URL:https://neuesglobetheater.de
X-WR-CALDESC:Veranstaltungen für Neues Globe Theater
REFRESH-INTERVAL;VALUE=DURATION:PT1H
X-Robots-Tag:noindex
X-PUBLISHED-TTL:PT1H
BEGIN:VTIMEZONE
TZID:Europe/Berlin
BEGIN:DAYLIGHT
TZOFFSETFROM:+0100
TZOFFSETTO:+0200
TZNAME:CEST
DTSTART:20230326T010000
END:DAYLIGHT
BEGIN:STANDARD
TZOFFSETFROM:+0200
TZOFFSETTO:+0100
TZNAME:CET
DTSTART:20231029T010000
END:STANDARD
END:VTIMEZONE
BEGIN:VEVENT
DTSTART;TZID=Europe/Berlin:20230310T200000
DTEND;TZID=Europe/Berlin:20230310T220000
DTSTAMP:20260422T202559
CREATED:20220111T134901Z
LAST-MODIFIED:20220111T134901Z
UID:4854-1678478400-1678485600@neuesglobetheater.de
SUMMARY:Indien | Hechingen
DESCRIPTION:
URL:https://neuesglobetheater.de/termin/230310-indien-hechingen/
LOCATION:Stadthalle Museum Hechingen\, Zollernstraße 2\, Hechingen\, 72379
END:VEVENT
END:VCALENDAR