BEGIN:VCALENDAR
VERSION:2.0
PRODID:-//Neues Globe Theater - ECPv6.8.3//NONSGML v1.0//EN
CALSCALE:GREGORIAN
METHOD:PUBLISH
X-ORIGINAL-URL:https://neuesglobetheater.de
X-WR-CALDESC:Veranstaltungen für Neues Globe Theater
REFRESH-INTERVAL;VALUE=DURATION:PT1H
X-Robots-Tag:noindex
X-PUBLISHED-TTL:PT1H
BEGIN:VTIMEZONE
TZID:Europe/Berlin
BEGIN:DAYLIGHT
TZOFFSETFROM:+0100
TZOFFSETTO:+0200
TZNAME:CEST
DTSTART:20230326T010000
END:DAYLIGHT
BEGIN:STANDARD
TZOFFSETFROM:+0200
TZOFFSETTO:+0100
TZNAME:CET
DTSTART:20231029T010000
END:STANDARD
END:VTIMEZONE
BEGIN:VEVENT
DTSTART;TZID=Europe/Berlin:20230303T200000
DTEND;TZID=Europe/Berlin:20230303T214000
DTSTAMP:20260422T202559
CREATED:20220223T180200Z
LAST-MODIFIED:20220223T180200Z
UID:5009-1677873600-1677879600@neuesglobetheater.de
SUMMARY:Don Quijote | Geesthacht
DESCRIPTION:230303
URL:https://neuesglobetheater.de/termin/230303-don-quijote-geesthacht/
LOCATION:Kleines Theater Schillerstrasse in Geesthacht\, Schillerstraße 33\, Geesthacht\, 21502\, Deutschland
END:VEVENT
END:VCALENDAR