BEGIN:VCALENDAR
VERSION:2.0
PRODID:-//Neues Globe Theater - ECPv6.8.3//NONSGML v1.0//EN
CALSCALE:GREGORIAN
METHOD:PUBLISH
X-ORIGINAL-URL:https://neuesglobetheater.de
X-WR-CALDESC:Veranstaltungen für Neues Globe Theater
REFRESH-INTERVAL;VALUE=DURATION:PT1H
X-Robots-Tag:noindex
X-PUBLISHED-TTL:PT1H
BEGIN:VTIMEZONE
TZID:Europe/Berlin
BEGIN:DAYLIGHT
TZOFFSETFROM:+0100
TZOFFSETTO:+0200
TZNAME:CEST
DTSTART:20230326T010000
END:DAYLIGHT
BEGIN:STANDARD
TZOFFSETFROM:+0200
TZOFFSETTO:+0100
TZNAME:CET
DTSTART:20231029T010000
END:STANDARD
END:VTIMEZONE
BEGIN:VEVENT
DTSTART;TZID=Europe/Berlin:20230208T200000
DTEND;TZID=Europe/Berlin:20230208T213000
DTSTAMP:20260422T214159
CREATED:20220623T085250Z
LAST-MODIFIED:20220623T085250Z
UID:5397-1675886400-1675891800@neuesglobetheater.de
SUMMARY:Don Quijote | Bocholt
DESCRIPTION:
URL:https://neuesglobetheater.de/termin/230208-don-quijote-bocholt-2/
LOCATION:Drosselsaal im TextilWerk\, Bocholt\, Industriestraße 5\, Bocholt\, 46395\, Deutschland
END:VEVENT
END:VCALENDAR