BEGIN:VCALENDAR
VERSION:2.0
PRODID:-//Neues Globe Theater - ECPv6.8.3//NONSGML v1.0//EN
CALSCALE:GREGORIAN
METHOD:PUBLISH
X-ORIGINAL-URL:https://neuesglobetheater.de
X-WR-CALDESC:Veranstaltungen für Neues Globe Theater
REFRESH-INTERVAL;VALUE=DURATION:PT1H
X-Robots-Tag:noindex
X-PUBLISHED-TTL:PT1H
BEGIN:VTIMEZONE
TZID:Europe/Berlin
BEGIN:DAYLIGHT
TZOFFSETFROM:+0100
TZOFFSETTO:+0200
TZNAME:CEST
DTSTART:20220327T010000
END:DAYLIGHT
BEGIN:STANDARD
TZOFFSETFROM:+0200
TZOFFSETTO:+0100
TZNAME:CET
DTSTART:20221030T010000
END:STANDARD
END:VTIMEZONE
BEGIN:VEVENT
DTSTART;TZID=Europe/Berlin:20221115T200000
DTEND;TZID=Europe/Berlin:20221115T213000
DTSTAMP:20260423T023054
CREATED:20220207T085402Z
LAST-MODIFIED:20241220T080855Z
UID:4930-1668542400-1668547800@neuesglobetheater.de
SUMMARY:Sturm | Landsberg
DESCRIPTION:
URL:https://neuesglobetheater.de/termin/221115-16-sturm-landsberg/
LOCATION:Stadttheater Landsberg\, Schlossergasse 381 a\, Landsberg am Lech\, 86899\, Deutschland
END:VEVENT
END:VCALENDAR