BEGIN:VCALENDAR
VERSION:2.0
PRODID:-//Neues Globe Theater - ECPv6.8.3//NONSGML v1.0//EN
CALSCALE:GREGORIAN
METHOD:PUBLISH
X-WR-CALNAME:Neues Globe Theater
X-ORIGINAL-URL:https://neuesglobetheater.de
X-WR-CALDESC:Veranstaltungen für Neues Globe Theater
REFRESH-INTERVAL;VALUE=DURATION:PT1H
X-Robots-Tag:noindex
X-PUBLISHED-TTL:PT1H
BEGIN:VTIMEZONE
TZID:Europe/Berlin
BEGIN:DAYLIGHT
TZOFFSETFROM:+0100
TZOFFSETTO:+0200
TZNAME:CEST
DTSTART:20220327T010000
END:DAYLIGHT
BEGIN:STANDARD
TZOFFSETFROM:+0200
TZOFFSETTO:+0100
TZNAME:CET
DTSTART:20221030T010000
END:STANDARD
END:VTIMEZONE
BEGIN:VEVENT
DTSTART;TZID=Europe/Berlin:20221112T200000
DTEND;TZID=Europe/Berlin:20221112T213000
DTSTAMP:20260423T022858
CREATED:20220901T061628Z
LAST-MODIFIED:20220901T061628Z
UID:5666-1668283200-1668288600@neuesglobetheater.de
SUMMARY:Sturm | Eutin
DESCRIPTION:
URL:https://neuesglobetheater.de/termin/221112-sturm-eutin/
LOCATION:Binchen Filmkunst Theater Eutin\, Albert Mahlstedt-Str. 2a\, Eutin\, 23701\, Deutschland
END:VEVENT
END:VCALENDAR