BEGIN:VCALENDAR
VERSION:2.0
PRODID:-//Neues Globe Theater - ECPv6.8.3//NONSGML v1.0//EN
CALSCALE:GREGORIAN
METHOD:PUBLISH
X-ORIGINAL-URL:https://neuesglobetheater.de
X-WR-CALDESC:Veranstaltungen für Neues Globe Theater
REFRESH-INTERVAL;VALUE=DURATION:PT1H
X-Robots-Tag:noindex
X-PUBLISHED-TTL:PT1H
BEGIN:VTIMEZONE
TZID:Europe/Berlin
BEGIN:DAYLIGHT
TZOFFSETFROM:+0100
TZOFFSETTO:+0200
TZNAME:CEST
DTSTART:20220327T010000
END:DAYLIGHT
BEGIN:STANDARD
TZOFFSETFROM:+0200
TZOFFSETTO:+0100
TZNAME:CET
DTSTART:20221030T010000
END:STANDARD
END:VTIMEZONE
BEGIN:VEVENT
DTSTART;TZID=Europe/Berlin:20221021T193000
DTEND;TZID=Europe/Berlin:20221021T204000
DTSTAMP:20260424T132614
CREATED:20211201T112946Z
LAST-MODIFIED:20221021T141721Z
UID:4759-1666380600-1666384800@neuesglobetheater.de
SUMMARY:Ein deutsches Leben | Amberg
DESCRIPTION:
URL:https://neuesglobetheater.de/termin/221021-ein-deutsches-leben-amberg/
LOCATION:Stadttheater Amberg\, Schrannenplatz 8\, Amberg\, 92224
END:VEVENT
END:VCALENDAR